BEGIN:VCALENDAR
PRODID:NingEventWidget-v1
VERSION:2.0
METHOD:PUBLISH
BEGIN:VTIMEZONE
TZID:Europe/London
X-LIC-LOCATION:Europe/London
BEGIN:DAYLIGHT
TZOFFSETFROM:+0000
TZOFFSETTO:+0100
TZNAME:BST
DTSTART:19700329T010000
RRULE:FREQ=YEARLY;BYMONTH=3;BYDAY=-1SU
END:DAYLIGHT
BEGIN:STANDARD
TZOFFSETFROM:+0100
TZOFFSETTO:+0000
TZNAME:GMT
DTSTART:19701025T020000
RRULE:FREQ=YEARLY;BYMONTH=10;BYDAY=-1SU
END:STANDARD
END:VTIMEZONE
BEGIN:VEVENT
UID:844301:Event:1513659
DTSTAMP:20260421T061552Z
SUMMARY:Zoe Wren at Bowes Park Folk Club
DESCRIPTION:Rising star Zoe Wren will bring refreshingly bold songs wh
 ich hook you from the first line. Folk Radio UK said: Intonation, infl
 ections and high notes which evoke Joni Mitchell at her very best!  P
 lus open mic for our local talent.\nNot to be missed! Free (collection
  taken)\n\nFor more information visit https://harringayonline.com/even
 ts/zoe-wren-at-bowes-park-folk-club
DTSTART;TZID=Europe/London:20221110T194500
DTEND;TZID=Europe/London:20221110T223000
CATEGORIES:"folk music"
LOCATION:Mum's Bistro
WEBSITE:https://www.facebook.com/BowesParkFolkClub
URL:https://www.facebook.com/BowesParkFolkClub
CONTACT:
ORGANIZER;CN="Catharine Perry":https://harringayonline.com/profile/Cat
 harinePerry
ATTACH;FMTTYPE="image/jpeg":https://storage.ning.com/topology/rest/1.0
 /file/get/10857107459?profile=original
ATTENDEE;ROLE=REQ-PARTICIPANT;PARTSTAT=ACCEPTED;RSVP=TRUE;CN="Catharin
 e Perry":https://harringayonline.com/profile/CatharinePerry
END:VEVENT
END:VCALENDAR
