BEGIN:VCALENDAR
PRODID:NingEventWidget-v1
VERSION:2.0
METHOD:PUBLISH
BEGIN:VTIMEZONE
TZID:Europe/London
X-LIC-LOCATION:Europe/London
BEGIN:DAYLIGHT
TZOFFSETFROM:+0000
TZOFFSETTO:+0100
TZNAME:BST
DTSTART:19700329T010000
RRULE:FREQ=YEARLY;BYMONTH=3;BYDAY=-1SU
END:DAYLIGHT
BEGIN:STANDARD
TZOFFSETFROM:+0100
TZOFFSETTO:+0000
TZNAME:GMT
DTSTART:19701025T020000
RRULE:FREQ=YEARLY;BYMONTH=10;BYDAY=-1SU
END:STANDARD
END:VTIMEZONE
BEGIN:VEVENT
UID:844301:Event:1628183
DTSTAMP:20260424T235056Z
SUMMARY:You Are The Sun by HurlyBurly Theatre
DESCRIPTION:A folk inspired opera for babies and grown ups that explor
 es the magic of nature.\n\nCombining the joy of gentle classical singi
 ng and sensory play, it is an invitation to see beauty in the smallest
  things and to let plants be our guides.\n\nCelebrate the gift of natu
 re and help to conjure a world out of breath, water, sunlight and soil
  in this magical musical adventure for 0 – 2 year olds.\n\nFor more 
 information visit https://harringayonline.com/events/you-are-the-sun-b
 y-hurlyburly-theatre
DTSTART;TZID=Europe/London:20260225T110000
DTEND;TZID=Europe/London:20260225T140000
CATEGORIES:theatre, family
LOCATION:Jacksons Lane
WEBSITE:https://www.jacksonslane.org.uk/events/you-are-the-sun-a-very-
 first-opera-for-0-2-years/
URL:https://www.jacksonslane.org.uk/events/you-are-the-sun-a-very-firs
 t-opera-for-0-2-years/
CONTACT:020 8340 5226
ORGANIZER;CN="Jacksons Lane":https://harringayonline.com/profile/Jacks
 onsLane899
ATTACH;FMTTYPE="image/jpeg":https://storage.ning.com/topology/rest/1.0
 /file/get/31044936469?profile=original
ATTENDEE;ROLE=REQ-PARTICIPANT;PARTSTAT=ACCEPTED;RSVP=TRUE;CN="Jacksons
  Lane":https://harringayonline.com/profile/JacksonsLane899
END:VEVENT
END:VCALENDAR
