BEGIN:VCALENDAR
PRODID:NingEventWidget-v1
VERSION:2.0
METHOD:PUBLISH
BEGIN:VTIMEZONE
TZID:Europe/London
X-LIC-LOCATION:Europe/London
BEGIN:DAYLIGHT
TZOFFSETFROM:+0000
TZOFFSETTO:+0100
TZNAME:BST
DTSTART:19700329T010000
RRULE:FREQ=YEARLY;BYMONTH=3;BYDAY=-1SU
END:DAYLIGHT
BEGIN:STANDARD
TZOFFSETFROM:+0100
TZOFFSETTO:+0000
TZNAME:GMT
DTSTART:19701025T020000
RRULE:FREQ=YEARLY;BYMONTH=10;BYDAY=-1SU
END:STANDARD
END:VTIMEZONE
BEGIN:VEVENT
UID:844301:Event:1502125
DTSTAMP:20260424T034503Z
SUMMARY:Yoga Wednesdays @ South Harringay School N4
DESCRIPTION:\nYour local evening class that is, both in-person and onl
 ine.\nCosts:\n• £12 drop-in\n• £10 concessions\n• £7 online (
 please book by 5pm before the class)\n• Five class-pass for £55 val
 id for three months\n\nThe sequence we do is better known as the 'Sola
 r Sessions'. It's a yoga practice that combines asana poses and stretc
 hes with callisthenic conditioning and a healthy smattering of inversi
 ons (headstands, forearm-stands and handstands) to bring you a robust 
 dynamic practice that works on both strength and flexibility.\nWe work
  progressively.  Do what you can and with repetition and time, the se
 quence will get easier.\nEach week we cover a different fact-finding t
 heme.\nPast subjects covered include: -\n• Coral Reefs\n• Nudibran
 chs \n• Orangutans \n\nFor in-studio classes please bring: -\n•
  Yoga mat\n• Towel (optional)\n• Water bottle \n• Props that w
 ill support your practice blocks and straps\n\nThose joining in-person
  classes must complete a Personal Liability Waiver as part of the buil
 ding's Risk Assessment Report.\nFor more info and booking please click
  here.\n\n\nFor more information visit https://harringayonline.com/eve
 nts/yoga-wednesdays-south-harringay-school-n4
DTSTART;TZID=Europe/London:20220907T183000
DTEND;TZID=Europe/London:20220907T200000
CATEGORIES:yoga, "yoga wednesdays", "yoga classes", "solar sessions", 
 "local yoga classes", "yoga in harringay"
LOCATION:South Harringay Swimming (pool building)
WEBSITE:https://www.jaquiwan.com/2021/08/22/yoga-at-south-harringay-sc
 hool/
URL:https://www.jaquiwan.com/2021/08/22/yoga-at-south-harringay-school
 /
CONTACT:07729238078
ORGANIZER;CN="Jaqui Wan":https://harringayonline.com/profile/JaquiWan
ATTACH;FMTTYPE="image/jpeg":https://storage.ning.com/topology/rest/1.0
 /file/get/10761289690?profile=original
ATTENDEE;ROLE=REQ-PARTICIPANT;PARTSTAT=ACCEPTED;RSVP=TRUE;CN="Jaqui Wa
 n":https://harringayonline.com/profile/JaquiWan
END:VEVENT
END:VCALENDAR
