BEGIN:VCALENDAR
PRODID:NingEventWidget-v1
VERSION:2.0
METHOD:PUBLISH
BEGIN:VTIMEZONE
TZID:Europe/London
X-LIC-LOCATION:Europe/London
BEGIN:DAYLIGHT
TZOFFSETFROM:+0000
TZOFFSETTO:+0100
TZNAME:BST
DTSTART:19700329T010000
RRULE:FREQ=YEARLY;BYMONTH=3;BYDAY=-1SU
END:DAYLIGHT
BEGIN:STANDARD
TZOFFSETFROM:+0100
TZOFFSETTO:+0000
TZNAME:GMT
DTSTART:19701025T020000
RRULE:FREQ=YEARLY;BYMONTH=10;BYDAY=-1SU
END:STANDARD
END:VTIMEZONE
BEGIN:VEVENT
UID:844301:Event:1502332
DTSTAMP:20260424T073220Z
SUMMARY:Yoga Wednesdays @ South Harringay School N4
DESCRIPTION:Your localÂ evening classÂ that is, both in-person and onl
 ine.\nCosts:\nâ€¢ Â£12 drop-in\nâ€¢ Â£10 concessions\nâ€¢ Â£7 online (
 please book by 5pm before the class)\nâ€¢ Five class-pass for Â£55 val
 id for three months\n\nThe sequence we do is better known as theÂ 'Sol
 ar Sessions'. It's a yoga practice that combines asana poses and stret
 ches with callisthenic conditioning and a healthy smattering of invers
 ions (headstands, forearm-stands and handstands) to bring you a robust
  dynamic practice that works on both strength and flexibility.\nWe wor
 k progressively.Â  Do what you can and with repetition and time, the s
 equence will get easier.\nEach week we cover a different fact-finding 
 theme.\nPast subjects covered include: -\nâ€¢ Coral Reefs\nâ€¢ Nudibra
 nchsÂ \nâ€¢Â OrangutansÂ \n\nFor in-studio classes please bring: -\nâ€
 ¢ Yoga mat\nâ€¢ Towel (optional)\nâ€¢ Water bottleÂ \nâ€¢Â Props that 
 will support your practice blocks and straps\n\nThose joining in-perso
 n classes must complete aÂ Personal Liability WaiverÂ as part of the b
 uilding's Risk Assessment Report.\nFor more info and booking please cl
 ickÂ here.\n\nFor more information visit https://harringayonline.com/e
 vents/yoga-wednesdays-south-harringay-school-n4-12
DTSTART;TZID=Europe/London:20221207T183000
DTEND;TZID=Europe/London:20221207T200000
CATEGORIES:yoga, "yoga wednesdays", "yoga classes", "solar sessions", 
 "local yoga classes", "yoga in harringay"
LOCATION:South Harringay Swimming (pool building)
WEBSITE:https://www.jaquiwan.com/2021/08/22/yoga-at-south-harringay-sc
 hool/
URL:https://www.jaquiwan.com/2021/08/22/yoga-at-south-harringay-school
 /
CONTACT:07729238078
ORGANIZER;CN="Jaqui Wan":https://harringayonline.com/profile/JaquiWan
ATTACH;FMTTYPE="image/jpeg":https://storage.ning.com/topology/rest/1.0
 /file/get/10761289690?profile=original
ATTENDEE;ROLE=REQ-PARTICIPANT;PARTSTAT=ACCEPTED;RSVP=TRUE;CN="Jaqui Wa
 n":https://harringayonline.com/profile/JaquiWan
END:VEVENT
END:VCALENDAR
