BEGIN:VCALENDAR
PRODID:NingEventWidget-v1
VERSION:2.0
METHOD:PUBLISH
BEGIN:VTIMEZONE
TZID:Europe/London
X-LIC-LOCATION:Europe/London
BEGIN:DAYLIGHT
TZOFFSETFROM:+0000
TZOFFSETTO:+0100
TZNAME:BST
DTSTART:19700329T010000
RRULE:FREQ=YEARLY;BYMONTH=3;BYDAY=-1SU
END:DAYLIGHT
BEGIN:STANDARD
TZOFFSETFROM:+0100
TZOFFSETTO:+0000
TZNAME:GMT
DTSTART:19701025T020000
RRULE:FREQ=YEARLY;BYMONTH=10;BYDAY=-1SU
END:STANDARD
END:VTIMEZONE
BEGIN:VEVENT
UID:844301:Event:1570571
DTSTAMP:20260424T145723Z
SUMMARY:Yaneura Market Japanese Jumble Sale
DESCRIPTION:Japanese Jumble Sale Once a Year!\nCome join us at the Jap
 anese Jumble sale in North London! You can find great books ,clothing,
  kitchenware ,vintage and bric-a-bracâ€¦ Japanese sellers will be sell
 ing original stuff which has come all the way from Japan. You get a ch
 ance to find special Japanese gadgets as well as also buy some artistâ
 €™s old stock. We will also have a stall with Japanese food and pastri
 es that you and your friends can enjoy! It will be fun!\n\n\n\nFor mor
 e information visit https://harringayonline.com/events/yaneura-market-
 japanese-jumble-sale-1
DTSTART;TZID=Europe/London:20240519T130000
DTEND;TZID=Europe/London:20240519T160000
CATEGORIES:japanese, food, event, sunday, market, jumble, sale, muswel
 l, hill, family
LOCATION:Hornsey Parish Church Hall
WEBSITE:https://jollyhobbies.wixsite.com/jollyhobbiesmarket
URL:https://jollyhobbies.wixsite.com/jollyhobbiesmarket
CONTACT:07854852933
ORGANIZER:Yasu
ATTACH;FMTTYPE="image/jpeg":https://storage.ning.com/topology/rest/1.0
 /file/get/12432675885?profile=original
ATTENDEE;ROLE=REQ-PARTICIPANT;PARTSTAT=ACCEPTED;RSVP=TRUE;CN="Helen My
 ers":https://harringayonline.com/profile/HelenMyers
ATTENDEE;ROLE=REQ-PARTICIPANT;PARTSTAT=ACCEPTED;RSVP=TRUE;CN=jollyhobb
 ies:https://harringayonline.com/profile/jollyhobbies
END:VEVENT
END:VCALENDAR
