BEGIN:VCALENDAR
PRODID:NingEventWidget-v1
VERSION:2.0
METHOD:PUBLISH
BEGIN:VTIMEZONE
TZID:Europe/London
X-LIC-LOCATION:Europe/London
BEGIN:DAYLIGHT
TZOFFSETFROM:+0000
TZOFFSETTO:+0100
TZNAME:BST
DTSTART:19700329T010000
RRULE:FREQ=YEARLY;BYMONTH=3;BYDAY=-1SU
END:DAYLIGHT
BEGIN:STANDARD
TZOFFSETFROM:+0100
TZOFFSETTO:+0000
TZNAME:GMT
DTSTART:19701025T020000
RRULE:FREQ=YEARLY;BYMONTH=10;BYDAY=-1SU
END:STANDARD
END:VTIMEZONE
BEGIN:VEVENT
UID:844301:Event:1515269
DTSTAMP:20260421T002215Z
SUMMARY:Worm Survey - The Paddock
DESCRIPTION:About this event\n\nWe invite you to join us at the Paddoc
 k for our weekly wildlife survey in 2022! Whether you are an expert or
  complete beginner this will be a chance to get outdoors and explore t
 he wildlife on your doorstep.\n\nWhat to expect:\n- A short talk on th
 e species \n- A guided transect survey of the whole site.\n- Help wit
 h identifying \n-The data collected will help us develop the Paddock 
 into a Local Nature Reserve.\n\nPre-booking is essential, book now to 
 confirm a place.\nPlease be aware Eventbrite booking closes one day be
 fore each surveying event at 5pm.\nIf you have to cancel your place fo
 r any reason, please get in touch via thepaddock@tcv.org.uk or by the 
 contact numbers below to let us know.\n\nWhat to bring:\nYou will be i
 ssued with a field recording sheet, species guide sheets, a clipboard 
 and a pencil.\nIf you own  ID guides/books, you are welcome to bring 
 them along.\nIndividual surveys will run outdoors for about an hour, p
 lease be sure to check the weather/temperature and dress accordingly.\
 n\nCOVID-Safe Measures:\nWhilst social distancing and COVID-safe measu
 res are no longer legally required, you are welcome to wear a mask if 
 you would like to. Please consider others' wishes who may still want t
 o social distance, and always wash hands before eating/drinking on TCV
  projects.\nUnder 18s:\nAll ages can join in the bird survey, the rout
 e is a little muddy but buggies are welcome!\nIf you want to volunteer
  and are 16-17 years old please ensure you get in touch with us at the
 paddock@tcv.org.uk, as you will need a completed parent/ guardian cons
 ent form to join in. For everyone aged 15 and under they will also nee
 d a parent/guardian with them to attend.\n\nMeeting point:\nWe will me
 et at the Paddock main entrance next to the 2x green office buildings 
 on Ferry Lane, N17 9NG.\n\n\n\n\nFor more information visit https://ha
 rringayonline.com/events/worm-survey-the-paddock
DTSTART;TZID=Europe/London:20221111T111500
DTEND;TZID=Europe/London:20221111T121500
CATEGORIES:wildlife, nature, survey
LOCATION:The Paddock Community Nature Park
WEBSITE:https://www.eventbrite.co.uk/e/earth-worm-survey-the-paddock-t
 ickets-440828348457
URL:https://www.eventbrite.co.uk/e/earth-worm-survey-the-paddock-ticke
 ts-440828348457
CONTACT:
ORGANIZER;CN="TCV Haringey":https://harringayonline.com/profile/Railwa
 yFields
ATTACH;FMTTYPE="image/jpeg":
ATTENDEE;ROLE=REQ-PARTICIPANT;PARTSTAT=ACCEPTED;RSVP=TRUE;CN="TCV Hari
 ngey":https://harringayonline.com/profile/RailwayFields
END:VEVENT
END:VCALENDAR
