BEGIN:VCALENDAR
PRODID:NingEventWidget-v1
VERSION:2.0
METHOD:PUBLISH
BEGIN:VTIMEZONE
TZID:Europe/London
X-LIC-LOCATION:Europe/London
BEGIN:DAYLIGHT
TZOFFSETFROM:+0000
TZOFFSETTO:+0100
TZNAME:BST
DTSTART:19700329T010000
RRULE:FREQ=YEARLY;BYMONTH=3;BYDAY=-1SU
END:DAYLIGHT
BEGIN:STANDARD
TZOFFSETFROM:+0100
TZOFFSETTO:+0000
TZNAME:GMT
DTSTART:19701025T020000
RRULE:FREQ=YEARLY;BYMONTH=10;BYDAY=-1SU
END:STANDARD
END:VTIMEZONE
BEGIN:VEVENT
UID:844301:Event:1506651
DTSTAMP:20260422T170235Z
SUMMARY:WoodGreen Sings
DESCRIPTION:WoodGreen Sings- weekly singing group led by musicologist 
 Ariane. Suitable for all abilities, friendly and supportive. Learn soo
 thing harmonies and enjoy the social atmosphere.\n7pm till about 8:30 
 . Donations to cover venue cost.\n\nFor more information visit https:/
 /harringayonline.com/events/woodgreen-sings
DTSTART;TZID=Europe/London:20220913T190000
DTEND;TZID=Europe/London:20220913T203000
CATEGORIES:singing
LOCATION:Community Hub
WEBSITE:
URL:
CONTACT:07795511132
ORGANIZER:Ariane
ATTACH;FMTTYPE="image/jpeg":https://storage.ning.com/topology/rest/1.0
 /file/get/10806445281?profile=original
ATTENDEE;ROLE=REQ-PARTICIPANT;PARTSTAT=ACCEPTED;RSVP=TRUE;CN="Laurie w
 hite":https://harringayonline.com/profile/Lauriewhite
END:VEVENT
END:VCALENDAR
