BEGIN:VCALENDAR
PRODID:NingEventWidget-v1
VERSION:2.0
METHOD:PUBLISH
BEGIN:VTIMEZONE
TZID:Europe/London
X-LIC-LOCATION:Europe/London
BEGIN:DAYLIGHT
TZOFFSETFROM:+0000
TZOFFSETTO:+0100
TZNAME:BST
DTSTART:19700329T010000
RRULE:FREQ=YEARLY;BYMONTH=3;BYDAY=-1SU
END:DAYLIGHT
BEGIN:STANDARD
TZOFFSETFROM:+0100
TZOFFSETTO:+0000
TZNAME:GMT
DTSTART:19701025T020000
RRULE:FREQ=YEARLY;BYMONTH=10;BYDAY=-1SU
END:STANDARD
END:VTIMEZONE
BEGIN:VEVENT
UID:844301:Event:1593852
DTSTAMP:20260423T143603Z
SUMMARY:Winter Fayre
DESCRIPTION:Everyone welcome at our Winter Fayre in Paignton Park & th
 e Triangle Centre!\r\nLocal Makers' Market with fab gifts, delicious t
 reats & lovely crafts. Plus, face painting, kids crafts, buzzwire, raf
 fle & music..\r\nAlso taster activities from our Paignton Park Spring 
 Programme (reggaectivity, circuit training)\r\nFree bike maintenance &
  security marking with Dr Bike!\r\n\r\nhttps://vartry.org\n\nFor more 
 information visit https://harringayonline.com/events/winter-fayre
DTSTART;TZID=Europe/London:20241207T140000
DTEND;TZID=Europe/London:20241207T170000
CATEGORIES:"dr bike, makers market, face painting, music, buzzwire, ki
 ds crafts, raffle, reggaectivity, circuit training"
LOCATION:Paignton Park &amp; Triangle Centre
WEBSITE:https://vartry.org
URL:https://vartry.org
CONTACT:
ORGANIZER;CN=Deborah:https://harringayonline.com/profile/DeborahCawkwe
 ll
ATTACH;FMTTYPE="image/jpeg":https://storage.ning.com/topology/rest/1.0
 /file/get/13180744493?profile=original
ATTENDEE;ROLE=REQ-PARTICIPANT;PARTSTAT=ACCEPTED;RSVP=TRUE;CN=Deborah:h
 ttps://harringayonline.com/profile/DeborahCawkwell
END:VEVENT
END:VCALENDAR
