BEGIN:VCALENDAR
PRODID:NingEventWidget-v1
VERSION:2.0
METHOD:PUBLISH
BEGIN:VTIMEZONE
TZID:Europe/London
X-LIC-LOCATION:Europe/London
BEGIN:DAYLIGHT
TZOFFSETFROM:+0000
TZOFFSETTO:+0100
TZNAME:BST
DTSTART:19700329T010000
RRULE:FREQ=YEARLY;BYMONTH=3;BYDAY=-1SU
END:DAYLIGHT
BEGIN:STANDARD
TZOFFSETFROM:+0100
TZOFFSETTO:+0000
TZNAME:GMT
DTSTART:19701025T020000
RRULE:FREQ=YEARLY;BYMONTH=10;BYDAY=-1SU
END:STANDARD
END:VTIMEZONE
BEGIN:VEVENT
UID:844301:Event:1623271
DTSTAMP:20260423T074923Z
SUMMARY:Wicked Splinters and Penny Skint
DESCRIPTION:LIVE MUSIC from 8pm. Wicked Splinters bring together a mi
 xture of melodic blues and folk, overlaying a darker brooding grunge. 
 A cross country blend of rock and indie.\nPenny Skint's  music is gr
 ounded in raw emotion and visceral honesty, blending indie and blues r
 ock with dark, heavy-hitting twists. \n\nFor more information visit h
 ttps://harringayonline.com/events/wicked-splinters-amp-penny-skint-1
DTSTART;TZID=Europe/London:20251101T200000
DTEND;TZID=Europe/London:20251102T020000
CATEGORIES:music, "live music", cocktails
LOCATION:Jam in a Jar
WEBSITE:https://jaminajarbar.co.uk
URL:https://jaminajarbar.co.uk
CONTACT:07950292389
ORGANIZER;CN="Jam in a Jar":https://harringayonline.com/profile/Jamina
 Jar
ATTACH;FMTTYPE="image/jpeg":https://storage.ning.com/topology/rest/1.0
 /file/get/13761577090?profile=original
ATTENDEE;ROLE=REQ-PARTICIPANT;PARTSTAT=ACCEPTED;RSVP=TRUE;CN="Jam in a
  Jar":https://harringayonline.com/profile/JaminaJar
END:VEVENT
END:VCALENDAR
