BEGIN:VCALENDAR
PRODID:NingEventWidget-v1
VERSION:2.0
METHOD:PUBLISH
BEGIN:VTIMEZONE
TZID:Europe/London
X-LIC-LOCATION:Europe/London
BEGIN:DAYLIGHT
TZOFFSETFROM:+0000
TZOFFSETTO:+0100
TZNAME:BST
DTSTART:19700329T010000
RRULE:FREQ=YEARLY;BYMONTH=3;BYDAY=-1SU
END:DAYLIGHT
BEGIN:STANDARD
TZOFFSETFROM:+0100
TZOFFSETTO:+0000
TZNAME:GMT
DTSTART:19701025T020000
RRULE:FREQ=YEARLY;BYMONTH=10;BYDAY=-1SU
END:STANDARD
END:VTIMEZONE
BEGIN:VEVENT
UID:844301:Event:1639691
DTSTAMP:20260423T152728Z
SUMMARY:Why you should be a socialist
DESCRIPTION:With war raging, markets looking shaky, and the planet con
 tinuing to burn, author and activist will be arguing Why you should b
 e a socialist.  John is the author of a large number of books, incl
 uding The Leveller Revolution (2016) and A People's History of Lond
 on (2012; with Lindsey German).  A founding member of the Stop the W
 ar Coalition, he was one of the main organisers of the biggest demonst
 ration in British history, when 2 million people marched on Hyde Park 
 on 15 February 2003 in protest at the imminent invasion of Iraq.  Tic
 kets are free, but donations are always welcome to help cover venue co
 sts.  Book here.\n\nFor more information visit https://harringayonlin
 e.com/events/why-you-should-be-a-socialist
DTSTART;TZID=Europe/London:20260428T183000
DTEND;TZID=Europe/London:20260428T200000
CATEGORIES:socialism, marx, war, crisis, capitalism, protest
LOCATION:All Good Bookshop
WEBSITE:https://allgoodbookshop.co.uk/
URL:https://allgoodbookshop.co.uk/
CONTACT:
ORGANIZER:Haringey Counterfire
ATTACH;FMTTYPE="image/jpeg":https://storage.ning.com/topology/rest/1.0
 /file/get/31137473484?profile=original
ATTENDEE;ROLE=REQ-PARTICIPANT;PARTSTAT=ACCEPTED;RSVP=TRUE;CN="Morgan D
 aniels":https://harringayonline.com/profile/MorganDaniels
END:VEVENT
END:VCALENDAR
