BEGIN:VCALENDAR
PRODID:NingEventWidget-v1
VERSION:2.0
METHOD:PUBLISH
BEGIN:VTIMEZONE
TZID:Europe/London
X-LIC-LOCATION:Europe/London
BEGIN:DAYLIGHT
TZOFFSETFROM:+0000
TZOFFSETTO:+0100
TZNAME:BST
DTSTART:19700329T010000
RRULE:FREQ=YEARLY;BYMONTH=3;BYDAY=-1SU
END:DAYLIGHT
BEGIN:STANDARD
TZOFFSETFROM:+0100
TZOFFSETTO:+0000
TZNAME:GMT
DTSTART:19701025T020000
RRULE:FREQ=YEARLY;BYMONTH=10;BYDAY=-1SU
END:STANDARD
END:VTIMEZONE
BEGIN:VEVENT
UID:844301:Event:1514590
DTSTAMP:20260420T225106Z
SUMMARY:When The Autumn Leaves Fall Future Machine Will Appear - Finsb
 ury Park 2022
DESCRIPTION:Welcome the autumn, sing the weather, play messages from t
 he past and take a moment to speak to the future.\n\n10.30 am - Meet o
 utside Furtherfield Gallery (by the playground at the top of the hill)
 11.00 am - A procession to seven trees in the park12.30 pm - A music p
 erformance of the weather (near the Finsbury Park Tube Station exit)\
 n\n\n\nFor more information visit https://harringayonline.com/events/w
 hen-the-autumn-leaves-fall-future-machine-will-appear-finsbury
DTSTART;TZID=Europe/London:20221112T103000
DTEND;TZID=Europe/London:20221112T150000
CATEGORIES:music, art, climate, change, future, finsbury, park, trees
LOCATION:Finsbury Park
WEBSITE:http://www.whenthefuturecomes.net/london
URL:http://www.whenthefuturecomes.net/london
CONTACT:
ORGANIZER;CN="Rachel Jacobs":https://harringayonline.com/profile/Rache
 lJacobs
ATTACH;FMTTYPE="image/jpeg":https://storage.ning.com/topology/rest/1.0
 /file/get/10862594262?profile=original
ATTENDEE;ROLE=REQ-PARTICIPANT;PARTSTAT=ACCEPTED;RSVP=TRUE;CN="Rachel J
 acobs":https://harringayonline.com/profile/RachelJacobs
END:VEVENT
END:VCALENDAR
