BEGIN:VCALENDAR
PRODID:NingEventWidget-v1
VERSION:2.0
METHOD:PUBLISH
BEGIN:VTIMEZONE
TZID:Europe/London
X-LIC-LOCATION:Europe/London
BEGIN:DAYLIGHT
TZOFFSETFROM:+0000
TZOFFSETTO:+0100
TZNAME:BST
DTSTART:19700329T010000
RRULE:FREQ=YEARLY;BYMONTH=3;BYDAY=-1SU
END:DAYLIGHT
BEGIN:STANDARD
TZOFFSETFROM:+0100
TZOFFSETTO:+0000
TZNAME:GMT
DTSTART:19701025T020000
RRULE:FREQ=YEARLY;BYMONTH=10;BYDAY=-1SU
END:STANDARD
END:VTIMEZONE
BEGIN:VEVENT
UID:844301:Event:1639994
DTSTAMP:20260425T230757Z
SUMMARY:WELLNESS WEDNESDAY:Bolly Dance and Movement
DESCRIPTION:Dance like no one watching 😊💚❤️💕🙌🏽\nAs 
 summer approaches, get moving and make friends.\nEvery Wednesday - sta
 rts 8 April at 7.30pm.\n£10pp in advance for 4 weeks. Otherwise £12.
 50 pay as you go.\nTo register for a place, email preeti@collage-arts
 .org .\n\nFor more information visit https://harringayonline.com/even
 ts/wellness-wednesday-bolly-dance-and-movement
DTSTART;TZID=Europe/London:20260429T193000
DTEND;TZID=Europe/London:20260429T203000
CATEGORIES:dance, movement, wellness
LOCATION:The Community Hub
WEBSITE:https://www.musicglue.com/karamel/events/2026-04-29-wellness-w
 ednesday-bolly-dance-and-movement
URL:https://www.musicglue.com/karamel/events/2026-04-29-wellness-wedne
 sday-bolly-dance-and-movement
CONTACT:0800 0092 970
ORGANIZER;CN="Collage Arts":https://harringayonline.com/profile/Chocol
 ateFactory
ATTACH;FMTTYPE="image/jpeg":https://storage.ning.com/topology/rest/1.0
 /file/get/31141852879?profile=original
ATTENDEE;ROLE=REQ-PARTICIPANT;PARTSTAT=ACCEPTED;RSVP=TRUE;CN="Collage 
 Arts":https://harringayonline.com/profile/ChocolateFactory
END:VEVENT
END:VCALENDAR
