BEGIN:VCALENDAR
PRODID:NingEventWidget-v1
VERSION:2.0
METHOD:PUBLISH
BEGIN:VTIMEZONE
TZID:Europe/London
X-LIC-LOCATION:Europe/London
BEGIN:DAYLIGHT
TZOFFSETFROM:+0000
TZOFFSETTO:+0100
TZNAME:BST
DTSTART:19700329T010000
RRULE:FREQ=YEARLY;BYMONTH=3;BYDAY=-1SU
END:DAYLIGHT
BEGIN:STANDARD
TZOFFSETFROM:+0100
TZOFFSETTO:+0000
TZNAME:GMT
DTSTART:19701025T020000
RRULE:FREQ=YEARLY;BYMONTH=10;BYDAY=-1SU
END:STANDARD
END:VTIMEZONE
BEGIN:VEVENT
UID:844301:Event:1540357
DTSTAMP:20260422T222422Z
SUMMARY:Watermelon Wearing - Partner’s Empathy, Mother’s Hilarity
DESCRIPTION:Describing the feelings of pregnancy doesn’t necessarily
  convey how it truly feels, so it’s hard for people who aren’t pre
 gnant to truly empathise with the experience. So, let’s strap a wate
 rmelon to their belly, and see how they complete some everyday tasks, 
 such as tying shoelaces, getting off the sofa and picking things up of
 f the floor.\nContribution: £2.50 per person to cover admin costs and
  room hire - via cash or card on the day. If you're truly struggling t
 o contribute towards the session, please contact info@pregnancypartner
 ship.com so we can try to help.\n\n\nFor more information visit https:
 //harringayonline.com/events/watermelon-wearing-partner-s-empathy-moth
 er-s-hilarity
DTSTART;TZID=Europe/London:20230714T130000
DTEND;TZID=Europe/London:20230714T150000
CATEGORIES:pregnant, pregnancy, mums, dads, babies
LOCATION:The Langham
WEBSITE:http://pregnancypartnership.com/north-london-pregnancy-partner
 ship
URL:http://pregnancypartnership.com/north-london-pregnancy-partnership
CONTACT:
ORGANIZER:Pregnancy Partnership
ATTACH;FMTTYPE="image/jpeg":https://storage.ning.com/topology/rest/1.0
 /file/get/11147218097?profile=original
ATTENDEE;ROLE=REQ-PARTICIPANT;PARTSTAT=ACCEPTED;RSVP=TRUE;CN="Brian Ah
 earne":https://harringayonline.com/profile/BrianAhearne
END:VEVENT
END:VCALENDAR
