BEGIN:VCALENDAR
PRODID:NingEventWidget-v1
VERSION:2.0
METHOD:PUBLISH
BEGIN:VTIMEZONE
TZID:Europe/London
X-LIC-LOCATION:Europe/London
BEGIN:DAYLIGHT
TZOFFSETFROM:+0000
TZOFFSETTO:+0100
TZNAME:BST
DTSTART:19700329T010000
RRULE:FREQ=YEARLY;BYMONTH=3;BYDAY=-1SU
END:DAYLIGHT
BEGIN:STANDARD
TZOFFSETFROM:+0100
TZOFFSETTO:+0000
TZNAME:GMT
DTSTART:19701025T020000
RRULE:FREQ=YEARLY;BYMONTH=10;BYDAY=-1SU
END:STANDARD
END:VTIMEZONE
BEGIN:VEVENT
UID:844301:Event:1517535
DTSTAMP:20260424T091313Z
SUMMARY:Volunteering Parkland Walk
DESCRIPTION:Thursday 15th December\n10am – 3pm\nParkland Walk\nWe’
 ll be on the meadow embankments removing tree regrowth and fast growin
 g species to maintain the meadow flora.\n \nMeet: Stapleton Hall Road
  entrance, near N4 3QF\n \n\nFor more information visit https://harri
 ngayonline.com/events/volunteering-parkland-walk
DTSTART;TZID=Europe/London:20221215T100000
DTEND;TZID=Europe/London:20221215T150000
CATEGORIES:conservation, volunteering, nature
LOCATION:Meet: Stapleton Hall Road entrance, near N4 3QF
WEBSITE:https://www.google.com/maps/dir/51.5732449,-0.1124148/@51.5723
 424,-0.1116896,17.75z/data=!4m2!4m1!3e0
URL:https://www.google.com/maps/dir/51.5732449,-0.1124148/@51.5723424,
 -0.1116896,17.75z/data=!4m2!4m1!3e0
CONTACT:
ORGANIZER;CN="TCV Haringey":https://harringayonline.com/profile/Railwa
 yFields
ATTACH;FMTTYPE="image/jpeg":https://storage.ning.com/topology/rest/1.0
 /file/get/10888649269?profile=original
ATTENDEE;ROLE=REQ-PARTICIPANT;PARTSTAT=ACCEPTED;RSVP=TRUE;CN="TCV Hari
 ngey":https://harringayonline.com/profile/RailwayFields
END:VEVENT
END:VCALENDAR
