BEGIN:VCALENDAR
PRODID:NingEventWidget-v1
VERSION:2.0
METHOD:PUBLISH
BEGIN:VTIMEZONE
TZID:Europe/London
X-LIC-LOCATION:Europe/London
BEGIN:DAYLIGHT
TZOFFSETFROM:+0000
TZOFFSETTO:+0100
TZNAME:BST
DTSTART:19700329T010000
RRULE:FREQ=YEARLY;BYMONTH=3;BYDAY=-1SU
END:DAYLIGHT
BEGIN:STANDARD
TZOFFSETFROM:+0100
TZOFFSETTO:+0000
TZNAME:GMT
DTSTART:19701025T020000
RRULE:FREQ=YEARLY;BYMONTH=10;BYDAY=-1SU
END:STANDARD
END:VTIMEZONE
BEGIN:VEVENT
UID:844301:Event:1511361
DTSTAMP:20260422T173149Z
SUMMARY:Vivienne Sometimes: A Life of Vivienne Haigh-Wood Eliot
DESCRIPTION: Live performance of 'Vivienne Sometimes' Written by Donn
 a Fitzgerald, this show offers a creative exploration of the life of V
 ivienne Haigh-Wood, the first wife of poet T. S. Eliot, and her final 
 years at Northumberland House Private Mental Hospital, Green Lane, Har
 ringay.\nThe show uses live music, projection and performance to tell 
 Vivienne's story. It also draws on local residents' memories of the ho
 spital site as a way of reviving the lost hospital building (Northumbe
 rland House was demolished in 1955).\nThe role of Vivienne will be per
 formed by Rosanna Lowe.\nTo book your free place, please register via 
 Eventbrite: https://www.eventbrite.co.uk/e/vivienne-sometimes-a-life-
 of-vivienne-haigh-wood-eliot-tickets-440546575667\nSupported by Arts C
 ouncil England\n\nFor more information visit https://harringayonline.c
 om/events/vivienne-sometimes-a-life-of-vivienne-haigh-wood-eliot
DTSTART;TZID=Europe/London:20221015T140000
DTEND;TZID=Europe/London:20221015T150000
CATEGORIES:"northumberland house", "bruce castle museum", "local histo
 ry", "lost hospitals", "harringay history", "live performance", "free 
 event", art, performance
LOCATION:Bruce Castle Museum
WEBSITE:http://www.brucecastle.org
URL:http://www.brucecastle.org
CONTACT:020 8489 4250
ORGANIZER;CN="Bruce Castle":https://harringayonline.com/profile/BruceC
 astle
ATTACH;FMTTYPE="image/jpeg":https://storage.ning.com/topology/rest/1.0
 /file/get/10840224891?profile=original
ATTENDEE;ROLE=REQ-PARTICIPANT;PARTSTAT=ACCEPTED;RSVP=TRUE;CN="Bruce Ca
 stle":https://harringayonline.com/profile/BruceCastle
END:VEVENT
END:VCALENDAR
