BEGIN:VCALENDAR
PRODID:NingEventWidget-v1
VERSION:2.0
METHOD:PUBLISH
BEGIN:VTIMEZONE
TZID:Europe/London
X-LIC-LOCATION:Europe/London
BEGIN:DAYLIGHT
TZOFFSETFROM:+0000
TZOFFSETTO:+0100
TZNAME:BST
DTSTART:19700329T010000
RRULE:FREQ=YEARLY;BYMONTH=3;BYDAY=-1SU
END:DAYLIGHT
BEGIN:STANDARD
TZOFFSETFROM:+0100
TZOFFSETTO:+0000
TZNAME:GMT
DTSTART:19701025T020000
RRULE:FREQ=YEARLY;BYMONTH=10;BYDAY=-1SU
END:STANDARD
END:VTIMEZONE
BEGIN:VEVENT
UID:844301:Event:1509134
DTSTAMP:20260422T153621Z
SUMMARY:Turning Earth Highgate Ceramics Market
DESCRIPTION:Turning Earth opens its fourth London ceramics centreÂ  - 
 this time in Highgate - with a weekend maker market on 15/16 October.Â
   Nose around the beautifully renovated 1930s industrial building comp
 lete with contemplative garden, and browse work from a hundred of Lond
 onâ€™s up and coming ceramicists. With regular visitors including cele
 brity chefs Nigella Lawson and Yotam Ottolenghi, the Turning Earth mar
 ket is in the vanguard of a maker movement that, in spite of many rece
 nt shocks to small industry, continues to grow. Show solidarity with l
 ocal makers as they express their creativity in the face of the energy
  crisis and rub off some of the peace that comes with working with the
  calming medium of clay. As usual, thereâ€™ll be street food and live 
 Klezma music, and - inspired by the Springâ€™s #CookForUkraine campaig
 n - this time theyâ€™ll be selling specially donated wares to raise mo
 ney for displaced children supported by UNICEF as part ofÂ  #MakeForUk
 raine.\n\n\nFor more information visit https://harringayonline.com/eve
 nts/turning-earth-highgate-ceramics-market
DTSTART;TZID=Europe/London:20221015T110000
DTEND;TZID=Europe/London:20221016T170000
CATEGORIES:ceramics, market, craft, handmade, community, dyi
LOCATION:Turning Earth Highgate
WEBSITE:https://www.turningearth.org/n6#market
URL:https://www.turningearth.org/n6#market
CONTACT:
ORGANIZER;CN=Stella:https://harringayonline.com/profile/Stella685
ATTACH;FMTTYPE="image/jpeg":https://storage.ning.com/topology/rest/1.0
 /file/get/10828737686?profile=original
ATTENDEE;ROLE=REQ-PARTICIPANT;PARTSTAT=ACCEPTED;RSVP=TRUE;CN=Stella:ht
 tps://harringayonline.com/profile/Stella685
END:VEVENT
END:VCALENDAR
