BEGIN:VCALENDAR
PRODID:NingEventWidget-v1
VERSION:2.0
METHOD:PUBLISH
BEGIN:VTIMEZONE
TZID:Europe/London
X-LIC-LOCATION:Europe/London
BEGIN:DAYLIGHT
TZOFFSETFROM:+0000
TZOFFSETTO:+0100
TZNAME:BST
DTSTART:19700329T010000
RRULE:FREQ=YEARLY;BYMONTH=3;BYDAY=-1SU
END:DAYLIGHT
BEGIN:STANDARD
TZOFFSETFROM:+0100
TZOFFSETTO:+0000
TZNAME:GMT
DTSTART:19701025T020000
RRULE:FREQ=YEARLY;BYMONTH=10;BYDAY=-1SU
END:STANDARD
END:VTIMEZONE
BEGIN:VEVENT
UID:844301:Event:1504457
DTSTAMP:20260424T090053Z
SUMMARY:Tunnel Gardens Meadow Care
DESCRIPTION:Final day of meadow care for the month in this quiet green
  sanctuary!\nClick HERE to sign up for a place\n\nLocation:\n\nWhat th
 ree words: ///bossy.grew.edits\nGoogle Maps Link\n\nFor more informati
 on visit https://harringayonline.com/events/tunnel-gardens-meadow-care
DTSTART;TZID=Europe/London:20220929T100000
DTEND;TZID=Europe/London:20220929T150000
CATEGORIES:volunteering, nature, conservation, tcv
LOCATION:Blake Road Entrance, near N11 2AL
WEBSITE:https://www.google.co.uk/maps/place/Blake+Rd,+London+N11+2AL/@
 51.6064446,-0.1347207,18z/data=!4m5!3m4!1s0x4876197afb40b725:0xc1ba5b1
 6551f445!8m2!3d51.6058723!4d-0.133215
URL:https://www.google.co.uk/maps/place/Blake+Rd,+London+N11+2AL/@51.6
 064446,-0.1347207,18z/data=!4m5!3m4!1s0x4876197afb40b725:0xc1ba5b16551
 f445!8m2!3d51.6058723!4d-0.133215
CONTACT:
ORGANIZER;CN="TCV Haringey":https://harringayonline.com/profile/Railwa
 yFields
ATTACH;FMTTYPE="image/jpeg":https://storage.ning.com/topology/rest/1.0
 /file/get/10792754484?profile=original
ATTENDEE;ROLE=REQ-PARTICIPANT;PARTSTAT=ACCEPTED;RSVP=TRUE;CN="TCV Hari
 ngey":https://harringayonline.com/profile/RailwayFields
END:VEVENT
END:VCALENDAR
