BEGIN:VCALENDAR
PRODID:NingEventWidget-v1
VERSION:2.0
METHOD:PUBLISH
BEGIN:VTIMEZONE
TZID:Europe/London
X-LIC-LOCATION:Europe/London
BEGIN:DAYLIGHT
TZOFFSETFROM:+0000
TZOFFSETTO:+0100
TZNAME:BST
DTSTART:19700329T010000
RRULE:FREQ=YEARLY;BYMONTH=3;BYDAY=-1SU
END:DAYLIGHT
BEGIN:STANDARD
TZOFFSETFROM:+0100
TZOFFSETTO:+0000
TZNAME:GMT
DTSTART:19701025T020000
RRULE:FREQ=YEARLY;BYMONTH=10;BYDAY=-1SU
END:STANDARD
END:VTIMEZONE
BEGIN:VEVENT
UID:844301:Event:1634915
DTSTAMP:20260425T115711Z
SUMMARY:Trevillion, McQuillan and Schneerson (Live Jazz)
DESCRIPTION:Soulsa ® Productions presents Trevillion, McQuillan and S
 chneerson\nThese supremely talented young musicians play an eclectic m
 ix of instrumental originals and standards, all firmly rooted in hard 
 and post-bop stylings.\nTheir distinctive and daring sound draws inspi
 ration from Sonny Rollins, Kenny Garrett's Triology, John Coltrane's e
 xperimentations without the piano and New Jazz Underground.\nCatch Har
 ry Trevillion on flute, Mark McQuillan on double bass and Nadav Schnee
 rson on drums live for the first time as a trio and exclusively at Kar
 amel.\nClick here to grab your ticket.\nRelevant links:\nhttps://souls
 a.co.uk https://www.musicglue.com/karamel https://www.instagram.com/ha
 rrytrevillion https://www.instagram.com/mark.mcquillan https://www.ins
 tagram.com/nadavschneerson\n\n\n\n\nFor more information visit https:/
 /harringayonline.com/events/trevillion-mcquillan-and-schneerson-live-j
 azz
DTSTART;TZID=Europe/London:20260314T190000
DTEND;TZID=Europe/London:20260314T220000
CATEGORIES:music, "live music", jazz, "live jazz", "north london", "wo
 od green", haringey
LOCATION:Karamel
WEBSITE:https://www.google.co.uk/maps/place/Karamel+N22+%7C+Collage+Ar
 ts/@51.594217,-0.1157004,17z
URL:https://www.google.co.uk/maps/place/Karamel+N22+%7C+Collage+Arts/@
 51.594217,-0.1157004,17z
CONTACT:
ORGANIZER;CN="Gee Kay":https://harringayonline.com/profile/GeeKay
ATTACH;FMTTYPE="image/jpeg":https://storage.ning.com/topology/rest/1.0
 /file/get/31101356487?profile=original
ATTENDEE;ROLE=REQ-PARTICIPANT;PARTSTAT=ACCEPTED;RSVP=TRUE;CN="Gee Kay"
 :https://harringayonline.com/profile/GeeKay
END:VEVENT
END:VCALENDAR
