BEGIN:VCALENDAR
PRODID:NingEventWidget-v1
VERSION:2.0
METHOD:PUBLISH
BEGIN:VTIMEZONE
TZID:Europe/London
X-LIC-LOCATION:Europe/London
BEGIN:DAYLIGHT
TZOFFSETFROM:+0000
TZOFFSETTO:+0100
TZNAME:BST
DTSTART:19700329T010000
RRULE:FREQ=YEARLY;BYMONTH=3;BYDAY=-1SU
END:DAYLIGHT
BEGIN:STANDARD
TZOFFSETFROM:+0100
TZOFFSETTO:+0000
TZNAME:GMT
DTSTART:19701025T020000
RRULE:FREQ=YEARLY;BYMONTH=10;BYDAY=-1SU
END:STANDARD
END:VTIMEZONE
BEGIN:VEVENT
UID:844301:Event:1628187
DTSTAMP:20260425T183417Z
SUMMARY:Transient &amp; Trifling by Madeleine Margot
DESCRIPTION:After a sold-out premiere and standing ovation, Transient 
 and Trifling returns to the Jacksons Lane stage with a bold blend of c
 ircus, performance art, and real conversations about intimacy, identit
 y, and desire.\nA cabaret-theatre show that’s both a love letter and
  a call for change, this edition features award-winning performers and
  some brand-spanking-new acts.\n\nFor more information visit https://h
 arringayonline.com/events/transient-amp-trifling-by-madeleine-margot
DTSTART;TZID=Europe/London:20260207T193000
DTEND;TZID=Europe/London:20260207T203000
CATEGORIES:theatre, circus
LOCATION:Jacksons Lane
WEBSITE:https://www.jacksonslane.org.uk/events/transient-and-trifling/
URL:https://www.jacksonslane.org.uk/events/transient-and-trifling/
CONTACT:020 8340 5226
ORGANIZER;CN="Jacksons Lane":https://harringayonline.com/profile/Jacks
 onsLane899
ATTACH;FMTTYPE="image/jpeg":https://storage.ning.com/topology/rest/1.0
 /file/get/31044937273?profile=original
ATTENDEE;ROLE=REQ-PARTICIPANT;PARTSTAT=ACCEPTED;RSVP=TRUE;CN="Jacksons
  Lane":https://harringayonline.com/profile/JacksonsLane899
END:VEVENT
END:VCALENDAR
