BEGIN:VCALENDAR
PRODID:NingEventWidget-v1
VERSION:2.0
METHOD:PUBLISH
BEGIN:VTIMEZONE
TZID:Europe/London
X-LIC-LOCATION:Europe/London
BEGIN:DAYLIGHT
TZOFFSETFROM:+0000
TZOFFSETTO:+0100
TZNAME:BST
DTSTART:19700329T010000
RRULE:FREQ=YEARLY;BYMONTH=3;BYDAY=-1SU
END:DAYLIGHT
BEGIN:STANDARD
TZOFFSETFROM:+0100
TZOFFSETTO:+0000
TZNAME:GMT
DTSTART:19701025T020000
RRULE:FREQ=YEARLY;BYMONTH=10;BYDAY=-1SU
END:STANDARD
END:VTIMEZONE
BEGIN:VEVENT
UID:844301:Event:1640104
DTSTAMP:20260426T023445Z
SUMMARY:TRACE CINEMA: All Dirt Roads Taste of Salt, at McQueens theatr
 e
DESCRIPTION:\n\nWelcome to TRACE CINEMA!\nA home for independent film
 s.\nFor our first event, we are delighted to screen All Dirt Roads Tas
 te of Salt by Raven Jackson.\nSynopsis: A lyrical, decades-spanning ex
 ploration across a woman's life in Mississippi, the feature debut from
  award-winning poet, photographer and filmmaker Raven Jackson is a hau
 nting and richly layered portrait, a beautiful ode to the generations 
 of people and places that shape us.\n2023, United States, Raven Jackso
 n, 92 mins\nCourtesy of A24\nPrice: £7 (+ £1 booking fee)\nEvent Dat
 e:\n25 Apr 2026\nEvent timings:\nDoors Open: 6.30pm / Event start: 7pm
 \nFind out more on instagram: @tracecinema\nFAQs - ** *What rating is
  the film: * **Whilst the distributor suggests that the film is a PG,
  All Dirt Roads Taste of Salt is not officially classified by the BBFC
  and therefore this event is for 18+ only.\n*What time does the film s
 tart? * Doors open at 18:30 with the introduction and film starting a
 t 19:00.\n*Will there be an introduction or post film discussion? * E
 ach TRACE CINEMA screening will come with an introduction. We understa
 nd that some people love to discuss films after seeing them and others
  like to reflect on their own. At TRACE, there is no pressure to talk 
 about films after seeing them but feel free to chat to us in the bar i
 f you would like!\nIs there anything else I should know about the even
 t/venue? Do feel free to arrive/stay at the venue for drinks/bites in
  the Long Lounge. Last orders are at 22:00 and the venue closes at 22:
 30.\n\nFor more information visit https://harringayonline.com/events/t
 race-cinema-all-dirt-roads-taste-of-salt-at-mcqueens-theatre
DTSTART;TZID=Europe/London:20260425T190000
DTEND;TZID=Europe/London:20260425T220000
CATEGORIES:cinema, screening, film
LOCATION:McQueens Theatre, 4 Coburg Road, London N22 6UJ
WEBSITE:https://www.musicglue.com/karamel
URL:https://www.musicglue.com/karamel
CONTACT:020 8090 0071
ORGANIZER;CN="Collage Arts":https://harringayonline.com/profile/Chocol
 ateFactory
ATTACH;FMTTYPE="image/jpeg":https://storage.ning.com/topology/rest/1.0
 /file/get/31141851292?profile=original
ATTENDEE;ROLE=REQ-PARTICIPANT;PARTSTAT=ACCEPTED;RSVP=TRUE;CN="Collage 
 Arts":https://harringayonline.com/profile/ChocolateFactory
END:VEVENT
END:VCALENDAR
