BEGIN:VCALENDAR
PRODID:NingEventWidget-v1
VERSION:2.0
METHOD:PUBLISH
BEGIN:VTIMEZONE
TZID:Europe/London
X-LIC-LOCATION:Europe/London
BEGIN:DAYLIGHT
TZOFFSETFROM:+0000
TZOFFSETTO:+0100
TZNAME:BST
DTSTART:19700329T010000
RRULE:FREQ=YEARLY;BYMONTH=3;BYDAY=-1SU
END:DAYLIGHT
BEGIN:STANDARD
TZOFFSETFROM:+0100
TZOFFSETTO:+0000
TZNAME:GMT
DTSTART:19701025T020000
RRULE:FREQ=YEARLY;BYMONTH=10;BYDAY=-1SU
END:STANDARD
END:VTIMEZONE
BEGIN:VEVENT
UID:844301:Event:1502352
DTSTAMP:20260426T013216Z
SUMMARY:Tottenham Flower and Produce Show @ Lordship Rec / Hub
DESCRIPTION:Sat 10th September: Tottenham Flower and Produce Show, 11-
 5pm, Lordship Rec / Hub\r\nGet Growing, Get Baking, Get Making!   Once
  again the annual Tottenham Flower and Produce Show, organised by the 
 Friends of Lordship Rec, will be taking place on Saturday,10th Septemb
 er, 11-5pm in Lordship Rec by the outdoor gym and the Hub.\r\n The sho
 w is all about community food growing, healthy living, creativity and 
 sustainability. It showcases all the home growing, home baking, food a
 nd drink production, creative crafts and flower arranging skills of lo
 cal people and park users.\r\n There will also be a variety of worksho
 ps/activities for adults and children plus interesting stalls.\r\n Any
 one can enter.\r\n Get an entry form [pdf] from Lordship Hub or from t
 he Friends website here\r\nRegistration of entries will be on the day 
 at the show tent between 8.30-11am. Entry is FREE. \r\nThere will be l
 oads of other activities on the day too (flower crown making, pinhole 
 camera project, witty ditty fun science, crafts and storytelling..) - 
 open to all!\r\n\n\nFor more information visit https://harringayonline
 .com/events/tottenham-flower-and-produce-show-lordship-rec-hub
DTSTART;TZID=Europe/London:20220910T110000
DTEND;TZID=Europe/London:20220910T170000
CATEGORIES:"flower and produce show"
LOCATION:Lordship Rec and Lordship Hub
WEBSITE:https://lordshiprec.org.uk/
URL:https://lordshiprec.org.uk/
CONTACT:
ORGANIZER;CN=Liz:https://harringayonline.com/profile/Liz
ATTACH;FMTTYPE="image/jpeg":https://storage.ning.com/topology/rest/1.0
 /file/get/10761246496?profile=original
ATTENDEE;ROLE=REQ-PARTICIPANT;PARTSTAT=ACCEPTED;RSVP=TRUE;CN=Liz:https
 ://harringayonline.com/profile/Liz
END:VEVENT
END:VCALENDAR
