BEGIN:VCALENDAR
PRODID:NingEventWidget-v1
VERSION:2.0
METHOD:PUBLISH
BEGIN:VTIMEZONE
TZID:Europe/London
X-LIC-LOCATION:Europe/London
BEGIN:DAYLIGHT
TZOFFSETFROM:+0000
TZOFFSETTO:+0100
TZNAME:BST
DTSTART:19700329T010000
RRULE:FREQ=YEARLY;BYMONTH=3;BYDAY=-1SU
END:DAYLIGHT
BEGIN:STANDARD
TZOFFSETFROM:+0100
TZOFFSETTO:+0000
TZNAME:GMT
DTSTART:19701025T020000
RRULE:FREQ=YEARLY;BYMONTH=10;BYDAY=-1SU
END:STANDARD
END:VTIMEZONE
BEGIN:VEVENT
UID:844301:Event:1502407
DTSTAMP:20260425T220553Z
SUMMARY:Tottenham Flower and Produce Show 2022
DESCRIPTION:Get Growing, Get Baking, Get Making\nEnter the Tottenham F
 lower and Produce Show for Free with prize home grown vegetables and f
 ruit, tasty bakes and home produce, tangy drinks, gorgeous flower arra
 ngements and skilful crafts. Entry registration between 8.30-11am. Ope
 n to ALL ages and abilities. With children's and adult workshops and a
  wide range of stalls and information. It's all about sustainability.\
 nPick up an entry form st Lordship Hub or download from www.lordshipre
 c.org.uk\n\nFor more information visit https://harringayonline.com/eve
 nts/tottenham-flower-and-produce-show-2022
DTSTART;TZID=Europe/London:20220910T110000
DTEND;TZID=Europe/London:20220910T170000
CATEGORIES:"flower and produce show"
LOCATION:Lordship Recreation Ground
WEBSITE:http://www.lordshiprec.org.uk
URL:http://www.lordshiprec.org.uk
CONTACT:07983431301
ORGANIZER;CN="Joan curtis":https://harringayonline.com/profile/Joancur
 tis
ATTACH;FMTTYPE="image/jpeg":
ATTENDEE;ROLE=REQ-PARTICIPANT;PARTSTAT=ACCEPTED;RSVP=TRUE;CN="Joan cur
 tis":https://harringayonline.com/profile/Joancurtis
END:VEVENT
END:VCALENDAR
