BEGIN:VCALENDAR
PRODID:NingEventWidget-v1
VERSION:2.0
METHOD:PUBLISH
BEGIN:VTIMEZONE
TZID:Europe/London
X-LIC-LOCATION:Europe/London
BEGIN:DAYLIGHT
TZOFFSETFROM:+0000
TZOFFSETTO:+0100
TZNAME:BST
DTSTART:19700329T010000
RRULE:FREQ=YEARLY;BYMONTH=3;BYDAY=-1SU
END:DAYLIGHT
BEGIN:STANDARD
TZOFFSETFROM:+0100
TZOFFSETTO:+0000
TZNAME:GMT
DTSTART:19701025T020000
RRULE:FREQ=YEARLY;BYMONTH=10;BYDAY=-1SU
END:STANDARD
END:VTIMEZONE
BEGIN:VEVENT
UID:844301:Event:1502117
DTSTAMP:20260421T152116Z
SUMMARY:Tottenham Cemetery Chapel OPEN HOUSE
DESCRIPTION:Tottenham Cemetery Friends are delighted to 'open up' this
  beautiful Chapel which was built in 1858.\r\nSee inside the beautiful
  1858 Chapel and hear about the intrigue which surrounded its developm
 ent.  The Friends are campaigning to return it to its former glory as
  a valuable community asset and an important part of Tottenham's local
  heritage.\r\nFREE TICKETS on Saturday 17th or Sunday 18th September 
 11am to 1pm or 2pm to 4pm.   \r\nBook on Eventbrite\n\nFor more info
 rmation visit https://harringayonline.com/events/tottenham-cemetery-ch
 apel-open-house
DTSTART;TZID=Europe/London:20220917T110000
DTEND;TZID=Europe/London:20220918T160000
CATEGORIES:"open house"
LOCATION:Church Lane, Tottenham
WEBSITE:https://www.eventbrite.com/e/tottenham-cemetery-chapel-open-ho
 use-tickets-398185131447?utm-campaign=social&amp;utm-content=attendees
 hare&amp;utm-medium=discovery&amp;utm-term=listing&amp;utm-source=cp&a
 mp;aff=escb
URL:https://www.eventbrite.com/e/tottenham-cemetery-chapel-open-house-
 tickets-398185131447?utm-campaign=social&amp;utm-content=attendeeshare
 &amp;utm-medium=discovery&amp;utm-term=listing&amp;utm-source=cp&amp;a
 ff=escb
CONTACT:
ORGANIZER;CN=Liz:https://harringayonline.com/profile/Liz
ATTACH;FMTTYPE="image/jpeg":https://storage.ning.com/topology/rest/1.0
 /file/get/10761273292?profile=original
ATTENDEE;ROLE=REQ-PARTICIPANT;PARTSTAT=ACCEPTED;RSVP=TRUE;CN=Liz:https
 ://harringayonline.com/profile/Liz
END:VEVENT
END:VCALENDAR
