BEGIN:VCALENDAR
PRODID:NingEventWidget-v1
VERSION:2.0
METHOD:PUBLISH
BEGIN:VTIMEZONE
TZID:Europe/London
X-LIC-LOCATION:Europe/London
BEGIN:DAYLIGHT
TZOFFSETFROM:+0000
TZOFFSETTO:+0100
TZNAME:BST
DTSTART:19700329T010000
RRULE:FREQ=YEARLY;BYMONTH=3;BYDAY=-1SU
END:DAYLIGHT
BEGIN:STANDARD
TZOFFSETFROM:+0100
TZOFFSETTO:+0000
TZNAME:GMT
DTSTART:19701025T020000
RRULE:FREQ=YEARLY;BYMONTH=10;BYDAY=-1SU
END:STANDARD
END:VTIMEZONE
BEGIN:VEVENT
UID:844301:Event:1636679
DTSTAMP:20260419T181817Z
SUMMARY:Toby Evans Septet
DESCRIPTION:The Toby Evans septet is a collective of 7 of the best you
 ng musicians in the country who come together to play a mixture of Tob
 y's compositions and arrangements of other great tunes.\n**Line up:\nT
 oby Evans-Tenor Saxophone Gabriel Taylor-Trumpet Joe Baz-Alto saxophon
 e Joe Evans-Trombone John Haslam-Piano Zaki Osahn-Bass Kai Macrae-Drum
 s **\nKaramel - 4 Coburg Road, London N22 6UJ. The Karamel vegan kitch
 en will be serving food until 9.30pm. Email karamel8775@gmail.com to
  book a table for groups of 3+.\nDoors open 7pm. Music starts at 8pm.\
 n\nFor more information visit https://harringayonline.com/events/toby-
 evans-septet
DTSTART;TZID=Europe/London:20260410T190000
DTEND;TZID=Europe/London:20260410T220000
CATEGORIES:jazz, live, music, local, vegan, food, young
LOCATION:Karamel - 4 Coburg Road, London N22 6UJ.
WEBSITE:https://www.musicglue.com/karamel
URL:https://www.musicglue.com/karamel
CONTACT:02080900071
ORGANIZER;CN="Collage Arts":https://harringayonline.com/profile/Chocol
 ateFactory
ATTACH;FMTTYPE="image/jpeg":https://storage.ning.com/topology/rest/1.0
 /file/get/31106329071?profile=original
ATTENDEE;ROLE=REQ-PARTICIPANT;PARTSTAT=ACCEPTED;RSVP=TRUE;CN="Collage 
 Arts":https://harringayonline.com/profile/ChocolateFactory
END:VEVENT
END:VCALENDAR
