BEGIN:VCALENDAR
PRODID:NingEventWidget-v1
VERSION:2.0
METHOD:PUBLISH
BEGIN:VTIMEZONE
TZID:Europe/London
X-LIC-LOCATION:Europe/London
BEGIN:DAYLIGHT
TZOFFSETFROM:+0000
TZOFFSETTO:+0100
TZNAME:BST
DTSTART:19700329T010000
RRULE:FREQ=YEARLY;BYMONTH=3;BYDAY=-1SU
END:DAYLIGHT
BEGIN:STANDARD
TZOFFSETFROM:+0100
TZOFFSETTO:+0000
TZNAME:GMT
DTSTART:19701025T020000
RRULE:FREQ=YEARLY;BYMONTH=10;BYDAY=-1SU
END:STANDARD
END:VTIMEZONE
BEGIN:VEVENT
UID:844301:Event:1541136
DTSTAMP:20260424T233246Z
SUMMARY:The Heights of London underground
DESCRIPTION:A listing copied from the events listings in this morning'
 s Ian Visits. The film is to be shown at the Phoenix Cinema on Sunday 
 11 June at 1.30pm. \"A short film about North London’s overground se
 ctions of the Northern Line High Barnet Branch and its predecessor the
  Northern Heights Railway. Originally a steam railway from Edgware to 
 Finsbury Park, with branches to Alexandra Palace, and the town of Barn
 et, the railway rose to 300 feet above London.  This film uses old map
 s, railway plans, photographs, and pictures, and photographs to tell t
 he story of how this railway shaped this part of London, the romance o
 f its buildings, bridges, and tunnels. How its construction turned far
 med fields into suburban streets.  The screening will be followed by a
  question and answer session with the film-maker The London Borough Ba
 rnet’s Heritage Officer Hugh Petrie\"\n\nFor more information visit 
 https://harringayonline.com/events/the-heights-of-london-underground
DTSTART;TZID=Europe/London:20230611T133000
DTEND;TZID=Europe/London:20230611T150000
CATEGORIES:film
LOCATION:Phoenix Cinema, E. Finchley
WEBSITE:
URL:
CONTACT:
ORGANIZER;CN="Jennifer B":https://harringayonline.com/profile/Jennifer
 Blain
ATTACH;FMTTYPE="image/jpeg":https://storage.ning.com/topology/rest/1.0
 /file/get/11478500296?profile=original
ATTENDEE;ROLE=REQ-PARTICIPANT;PARTSTAT=ACCEPTED;RSVP=TRUE;CN="Jennifer
  B":https://harringayonline.com/profile/JenniferBlain
END:VEVENT
END:VCALENDAR
