BEGIN:VCALENDAR
PRODID:NingEventWidget-v1
VERSION:2.0
METHOD:PUBLISH
BEGIN:VTIMEZONE
TZID:Europe/London
X-LIC-LOCATION:Europe/London
BEGIN:DAYLIGHT
TZOFFSETFROM:+0000
TZOFFSETTO:+0100
TZNAME:BST
DTSTART:19700329T010000
RRULE:FREQ=YEARLY;BYMONTH=3;BYDAY=-1SU
END:DAYLIGHT
BEGIN:STANDARD
TZOFFSETFROM:+0100
TZOFFSETTO:+0000
TZNAME:GMT
DTSTART:19701025T020000
RRULE:FREQ=YEARLY;BYMONTH=10;BYDAY=-1SU
END:STANDARD
END:VTIMEZONE
BEGIN:VEVENT
UID:844301:Event:1628446
DTSTAMP:20260423T144207Z
SUMMARY:The Funny Mummy by Alyssa Kyria
DESCRIPTION:“Sensational!”’  — The Mirror\n\nJoin the Funny M
 ummy for this hilarious one woman comedy show, all about the bonkers w
 orld of parenting. From pregnancy to playdates, WhatsApp groups to sch
 ool runs – if you’re a parent, and you need a laugh, then this sho
 w is for you!\n\nFor more information visit https://harringayonline.co
 m/events/the-funny-mummy-by-alyssa-kyria
DTSTART;TZID=Europe/London:20260212T193000
DTEND;TZID=Europe/London:20260212T203000
CATEGORIES:theatre, comedy
LOCATION:Jacksons Lane
WEBSITE:https://www.jacksonslane.org.uk/events/the-funny-mummy/
URL:https://www.jacksonslane.org.uk/events/the-funny-mummy/
CONTACT:020 8340 5226
ORGANIZER;CN="Jacksons Lane":https://harringayonline.com/profile/Jacks
 onsLane899
ATTACH;FMTTYPE="image/jpeg":https://storage.ning.com/topology/rest/1.0
 /file/get/31044937862?profile=original
ATTENDEE;ROLE=REQ-PARTICIPANT;PARTSTAT=ACCEPTED;RSVP=TRUE;CN="Jacksons
  Lane":https://harringayonline.com/profile/JacksonsLane899
END:VEVENT
END:VCALENDAR
