BEGIN:VCALENDAR
PRODID:NingEventWidget-v1
VERSION:2.0
METHOD:PUBLISH
BEGIN:VTIMEZONE
TZID:Europe/London
X-LIC-LOCATION:Europe/London
BEGIN:DAYLIGHT
TZOFFSETFROM:+0000
TZOFFSETTO:+0100
TZNAME:BST
DTSTART:19700329T010000
RRULE:FREQ=YEARLY;BYMONTH=3;BYDAY=-1SU
END:DAYLIGHT
BEGIN:STANDARD
TZOFFSETFROM:+0100
TZOFFSETTO:+0000
TZNAME:GMT
DTSTART:19701025T020000
RRULE:FREQ=YEARLY;BYMONTH=10;BYDAY=-1SU
END:STANDARD
END:VTIMEZONE
BEGIN:VEVENT
UID:844301:Event:1634558
DTSTAMP:20260423T111055Z
SUMMARY:The Comedy String Quartet by Graffiti Classics
DESCRIPTION:16 strings, 8 dancing feet and 4 voices in 1 electrifying 
 and hilarious all-singing, all-dancing musical comedy show.\n\nWickedl
 y funny, the group energetically leap and clown their way through an e
 clectic musical landscape from Beethoven to Elvis, all virtuosically a
 ccompanied on their own instruments, this ground-breaking group is on 
 a mission: to make classical music irresistibly fun.\n\nFor more infor
 mation visit https://harringayonline.com/events/the-comedy-string-quar
 tet-by-graffiti-classics
DTSTART;TZID=Europe/London:20260509T193000
DTEND;TZID=Europe/London:20260509T203000
CATEGORIES:music, theatre
LOCATION:Jacksons Lane
WEBSITE:https://www.jacksonslane.org.uk/events/graffiti-classics-the-c
 omedy-string-quartet/
URL:https://www.jacksonslane.org.uk/events/graffiti-classics-the-comed
 y-string-quartet/
CONTACT:02083405226
ORGANIZER;CN="Jacksons Lane":https://harringayonline.com/profile/Jacks
 onsLane899
ATTACH;FMTTYPE="image/jpeg":https://storage.ning.com/topology/rest/1.0
 /file/get/31095026683?profile=original
ATTENDEE;ROLE=REQ-PARTICIPANT;PARTSTAT=ACCEPTED;RSVP=TRUE;CN="Jacksons
  Lane":https://harringayonline.com/profile/JacksonsLane899
END:VEVENT
END:VCALENDAR
