BEGIN:VCALENDAR
PRODID:NingEventWidget-v1
VERSION:2.0
METHOD:PUBLISH
BEGIN:VTIMEZONE
TZID:Europe/London
X-LIC-LOCATION:Europe/London
BEGIN:DAYLIGHT
TZOFFSETFROM:+0000
TZOFFSETTO:+0100
TZNAME:BST
DTSTART:19700329T010000
RRULE:FREQ=YEARLY;BYMONTH=3;BYDAY=-1SU
END:DAYLIGHT
BEGIN:STANDARD
TZOFFSETFROM:+0100
TZOFFSETTO:+0000
TZNAME:GMT
DTSTART:19701025T020000
RRULE:FREQ=YEARLY;BYMONTH=10;BYDAY=-1SU
END:STANDARD
END:VTIMEZONE
BEGIN:VEVENT
UID:844301:Event:1503838
DTSTAMP:20260423T101552Z
SUMMARY:Tai Chi in Priory Park
DESCRIPTION:Free Tai Chi classes with Paul Mckay as part of Haringeysâ
 €™ People need Parks program Thursday September 1st and the following 
 four Thursdays ending September 29th from 1-2 pmÂ \nM\n\nFor more info
 rmation visit https://harringayonline.com/events/tai-chi-in-priory-par
 k
DTSTART;TZID=Europe/London:20220901T130000
DTEND;TZID=Europe/London:20220901T140000
CATEGORIES:stress, busting, energy, boost
LOCATION:Priory Park in The Philosophers Garden(Abbeville Rd gate)
WEBSITE:
URL:
CONTACT:
ORGANIZER;CN=paulwilliam:https://harringayonline.com/profile/palmac54
ATTACH;FMTTYPE="image/jpeg":
ATTENDEE;ROLE=REQ-PARTICIPANT;PARTSTAT=ACCEPTED;RSVP=TRUE;CN=paulwilli
 am:https://harringayonline.com/profile/palmac54
END:VEVENT
END:VCALENDAR
