BEGIN:VCALENDAR
PRODID:NingEventWidget-v1
VERSION:2.0
METHOD:PUBLISH
BEGIN:VTIMEZONE
TZID:Europe/London
X-LIC-LOCATION:Europe/London
BEGIN:DAYLIGHT
TZOFFSETFROM:+0000
TZOFFSETTO:+0100
TZNAME:BST
DTSTART:19700329T010000
RRULE:FREQ=YEARLY;BYMONTH=3;BYDAY=-1SU
END:DAYLIGHT
BEGIN:STANDARD
TZOFFSETFROM:+0100
TZOFFSETTO:+0000
TZNAME:GMT
DTSTART:19701025T020000
RRULE:FREQ=YEARLY;BYMONTH=10;BYDAY=-1SU
END:STANDARD
END:VTIMEZONE
BEGIN:VEVENT
UID:844301:Event:1635466
DTSTAMP:20260423T080654Z
SUMMARY:TAI CHI in Crouch End on Saturdays
DESCRIPTION:TAI CHI with Jo Golden at Crouch End Fitness Centre every 
 SATURDAY at 1PM.\n\n£12.00 on the door. FREE for members. All welcome
 .\n\n13.00 - 14.00. TAI CHI With Jo Golden in Studio Two.\n\nThis clas
 s is for all ages regardless of your level of fitness.\n\nFocusing on 
 the slow gentle movements of the body and the breath, these movements 
 assist in the support and strengthening of joints and muscles, increas
 ing flexibility. Drawing on the principles of Tai Chi and Qi Gong the 
 movements are easy to follow. The class also incorporates the Lam Styl
 e Tai Chi form called the Small Circle form.\n\nFor more information v
 isit https://harringayonline.com/events/tai-chi-in-crouch-end-on-satur
 days-1
DTSTART;TZID=Europe/London:20260321T130000
DTEND;TZID=Europe/London:20260321T140000
CATEGORIES:tai, chi, qi, gong, small, circle, form, lam, style
LOCATION:Crouch End Fitness Centre
WEBSITE:
URL:
CONTACT:07855384123
ORGANIZER;CN="Andrew Palmer":https://harringayonline.com/profile/Andre
 wPalmer
ATTACH;FMTTYPE="image/jpeg":
ATTENDEE;ROLE=REQ-PARTICIPANT;PARTSTAT=ACCEPTED;RSVP=TRUE;CN="Andrew P
 almer":https://harringayonline.com/profile/AndrewPalmer
END:VEVENT
END:VCALENDAR
