BEGIN:VCALENDAR
PRODID:NingEventWidget-v1
VERSION:2.0
METHOD:PUBLISH
BEGIN:VTIMEZONE
TZID:Europe/London
X-LIC-LOCATION:Europe/London
BEGIN:DAYLIGHT
TZOFFSETFROM:+0000
TZOFFSETTO:+0100
TZNAME:BST
DTSTART:19700329T010000
RRULE:FREQ=YEARLY;BYMONTH=3;BYDAY=-1SU
END:DAYLIGHT
BEGIN:STANDARD
TZOFFSETFROM:+0100
TZOFFSETTO:+0000
TZNAME:GMT
DTSTART:19701025T020000
RRULE:FREQ=YEARLY;BYMONTH=10;BYDAY=-1SU
END:STANDARD
END:VTIMEZONE
BEGIN:VEVENT
UID:844301:Event:1631453
DTSTAMP:20260423T205734Z
SUMMARY:TAI CHI in Crouch End on Saturdays
DESCRIPTION:TAI CHI with Jo Golden at Crouch End Fitness Centre every
  SATURDAY at 1PM.\r\n£12.00 on the door. FREE for members. All welcom
 e.\r\n 13.00 - 14.00. TAI CHI With Jo Golden in Studio Two.\r\nThis c
 lass is for all ages regardless of your level of fitness.\r\nFocusing 
 on the slow gentle movements of the body and the breath, these movemen
 ts assist in the support and strengthening of joints and muscles, incr
 easing flexibility. Drawing on the principles of Tai Chi and Qi Gong t
 he movements are easy to follow. The class also incorporates the Lam S
 tyle Tai Chi form called the Small Circle form.\n\nFor more informatio
 n visit https://harringayonline.com/events/tai-chi-3
DTSTART;TZID=Europe/London:20260214T130000
DTEND;TZID=Europe/London:20260214T140000
CATEGORIES:"tai chi", "yoga''lam style tai chi", "small circle form"
LOCATION:Crouch End Fitness Centre
WEBSITE:http://www.crouchendfitnesscentre.co.uk
URL:http://www.crouchendfitnesscentre.co.uk
CONTACT:
ORGANIZER;CN="Andrew Palmer":https://harringayonline.com/profile/Andre
 wPalmer
ATTACH;FMTTYPE="image/jpeg":https://storage.ning.com/topology/rest/1.0
 /file/get/31065568878?profile=original
ATTENDEE;ROLE=REQ-PARTICIPANT;PARTSTAT=ACCEPTED;RSVP=TRUE;CN="Andrew P
 almer":https://harringayonline.com/profile/AndrewPalmer
END:VEVENT
END:VCALENDAR
