BEGIN:VCALENDAR
PRODID:NingEventWidget-v1
VERSION:2.0
METHOD:PUBLISH
BEGIN:VTIMEZONE
TZID:Europe/London
X-LIC-LOCATION:Europe/London
BEGIN:DAYLIGHT
TZOFFSETFROM:+0000
TZOFFSETTO:+0100
TZNAME:BST
DTSTART:19700329T010000
RRULE:FREQ=YEARLY;BYMONTH=3;BYDAY=-1SU
END:DAYLIGHT
BEGIN:STANDARD
TZOFFSETFROM:+0100
TZOFFSETTO:+0000
TZNAME:GMT
DTSTART:19701025T020000
RRULE:FREQ=YEARLY;BYMONTH=10;BYDAY=-1SU
END:STANDARD
END:VTIMEZONE
BEGIN:VEVENT
UID:844301:Event:1611473
DTSTAMP:20260423T023411Z
SUMMARY:Swing at The Langham - live band plus vintage jazz DJs
DESCRIPTION:Come dance with us at The Correspondents' Club! This month
  we have Demi Demitriou & Stomp-Down Geoff on the 78rpm decks playing 
 vintage jazz, swing and blues, plus live music from Minnie & The Mooch
 ers, featuring Sallie Phillips on vocals, and Al Nicholls on sax.\nThe
 re's a great sprung wooden dance-floor and a full bar with cheap booze
  till 12! \nTickets £10 cash/PayPal on the door, or online from Even
 tbrite.\n\n\nFor more information visit https://harringayonline.com/ev
 ents/swing-at-the-langham-live-band-plus-vintage-jazz-djs
DTSTART;TZID=Europe/London:20250620T203000
DTEND;TZID=Europe/London:20250620T234500
CATEGORIES:dance, swing, jazz, "live band"
LOCATION:The Langham Club
WEBSITE:https://www.facebook.com/events/1052380226814687
URL:https://www.facebook.com/events/1052380226814687
CONTACT:
ORGANIZER;CN="Geoff Amabilino":https://harringayonline.com/profile/Geo
 ffAmabilino
ATTACH;FMTTYPE="image/jpeg":https://storage.ning.com/topology/rest/1.0
 /file/get/10821545078?profile=original
ATTENDEE;ROLE=REQ-PARTICIPANT;PARTSTAT=ACCEPTED;RSVP=TRUE;CN="Desmond 
 Cass":https://harringayonline.com/profile/DesmondCass
ATTENDEE;ROLE=REQ-PARTICIPANT;PARTSTAT=ACCEPTED;RSVP=TRUE;CN="Geoff Am
 abilino":https://harringayonline.com/profile/GeoffAmabilino
END:VEVENT
END:VCALENDAR
