BEGIN:VCALENDAR
PRODID:NingEventWidget-v1
VERSION:2.0
METHOD:PUBLISH
BEGIN:VTIMEZONE
TZID:Europe/London
X-LIC-LOCATION:Europe/London
BEGIN:DAYLIGHT
TZOFFSETFROM:+0000
TZOFFSETTO:+0100
TZNAME:BST
DTSTART:19700329T010000
RRULE:FREQ=YEARLY;BYMONTH=3;BYDAY=-1SU
END:DAYLIGHT
BEGIN:STANDARD
TZOFFSETFROM:+0100
TZOFFSETTO:+0000
TZNAME:GMT
DTSTART:19701025T020000
RRULE:FREQ=YEARLY;BYMONTH=10;BYDAY=-1SU
END:STANDARD
END:VTIMEZONE
BEGIN:VEVENT
UID:844301:Event:1573186
DTSTAMP:20260424T130609Z
SUMMARY:Summer Fair 2024 - South Harringay Primary School
DESCRIPTION:This community event on Saturday 15 June is fun for the wh
 ole family. Crafts, BBQ, Bar and plenty of classic stalls like hook a 
 duck, whack the rat and face painting to name only a few.\n\nThis year
 's theme is Wellbeing and there will be fitness and yoga sessions aime
 d at adults and kids.\nLive music will be provided by young musicians 
 from South Harringay Primary School and DJs.\n\nYou can also enter our
  online raffle with great prizes up for grabs like a signed football s
 hirt, 1 week free holiday camp with Rose Academy, family bowling at Ro
 wans and much much more. Get your tickets here: https://app.classlist.
 com/events/#/raffle/view/1157110809\n\n£1 entry for adults and 50p fo
 r kids.\n11am-4pm (first hour is quiet).\n\nFor more information visit
  https://harringayonline.com/events/summer-fair-2024-south-harringay-p
 rimary-school
DTSTART;TZID=Europe/London:20240615T110000
DTEND;TZID=Europe/London:20240615T160000
CATEGORIES:summer, fair, june, raffle, family, event
LOCATION:South Harringay Primary School
WEBSITE:
URL:
CONTACT:
ORGANIZER;CN="Helen Connor":https://harringayonline.com/profile/HelenC
 onnor
ATTACH;FMTTYPE="image/jpeg":https://storage.ning.com/topology/rest/1.0
 /file/get/12546010064?profile=original
ATTENDEE;ROLE=REQ-PARTICIPANT;PARTSTAT=ACCEPTED;RSVP=TRUE;CN="Helen Co
 nnor":https://harringayonline.com/profile/HelenConnor
END:VEVENT
END:VCALENDAR
