BEGIN:VCALENDAR
PRODID:NingEventWidget-v1
VERSION:2.0
METHOD:PUBLISH
BEGIN:VTIMEZONE
TZID:Europe/London
X-LIC-LOCATION:Europe/London
BEGIN:DAYLIGHT
TZOFFSETFROM:+0000
TZOFFSETTO:+0100
TZNAME:BST
DTSTART:19700329T010000
RRULE:FREQ=YEARLY;BYMONTH=3;BYDAY=-1SU
END:DAYLIGHT
BEGIN:STANDARD
TZOFFSETFROM:+0100
TZOFFSETTO:+0000
TZNAME:GMT
DTSTART:19701025T020000
RRULE:FREQ=YEARLY;BYMONTH=10;BYDAY=-1SU
END:STANDARD
END:VTIMEZONE
BEGIN:VEVENT
UID:844301:Event:1502636
DTSTAMP:20260423T155322Z
SUMMARY:Stu Butterfieldâ€™s Locomotive
DESCRIPTION:The new KaramelN22 jazz season launches with Stu Butterfie
 ld's LOCOMOTIVE.\nAn evening to celebrate the music of Thelonious Monk
 !\nJoin us and appreciate the artistry of a exceptional band of jazz m
 usicians who have over 200 years of experience between them! The band 
 will play a selection of original compositions by the great pianist an
 d composer, Monk.\nA event not to be missed!\nMusicians line-up:\nHenr
 y Lowther - trumpet\nChris Biscoe - alto saxophone, alto clarinet\nArt
  Themen - saxophone\nAlcyona Mick - piano\nDave Green - double bass\nS
 tu Butterfield - drums\nDoors open at 7pm, and music starts at 8pm.\nP
 lease book a ticket in advance to avoid disappointment.\nTickets Â£5-Â
 £10\nhttps://www.musicglue.com/karamel\nThe venue has a full fresh air
  ventilation system installed throughout.\nPresented by Collage Arts.\
 n\nFor more information visit https://harringayonline.com/events/stu-b
 utterfield-s-locomotive
DTSTART;TZID=Europe/London:20220901T200000
DTEND;TZID=Europe/London:20220901T223000
CATEGORIES:jazz, music, live
LOCATION:MAAD, 4 Coburg Road, London N22 6UJ
WEBSITE:https://www.musicglue.com/karamel
URL:https://www.musicglue.com/karamel
CONTACT:
ORGANIZER;CN="Collage Arts":https://harringayonline.com/profile/Chocol
 ateFactory
ATTACH;FMTTYPE="image/jpeg":https://storage.ning.com/topology/rest/1.0
 /file/get/10764180067?profile=original
ATTENDEE;ROLE=REQ-PARTICIPANT;PARTSTAT=ACCEPTED;RSVP=TRUE;CN="Collage 
 Arts":https://harringayonline.com/profile/ChocolateFactory
END:VEVENT
END:VCALENDAR
