BEGIN:VCALENDAR
PRODID:NingEventWidget-v1
VERSION:2.0
METHOD:PUBLISH
BEGIN:VTIMEZONE
TZID:Europe/London
X-LIC-LOCATION:Europe/London
BEGIN:DAYLIGHT
TZOFFSETFROM:+0000
TZOFFSETTO:+0100
TZNAME:BST
DTSTART:19700329T010000
RRULE:FREQ=YEARLY;BYMONTH=3;BYDAY=-1SU
END:DAYLIGHT
BEGIN:STANDARD
TZOFFSETFROM:+0100
TZOFFSETTO:+0000
TZNAME:GMT
DTSTART:19701025T020000
RRULE:FREQ=YEARLY;BYMONTH=10;BYDAY=-1SU
END:STANDARD
END:VTIMEZONE
BEGIN:VEVENT
UID:844301:Event:1639695
DTSTAMP:20260423T154635Z
SUMMARY:Stephen Hose Free Lunchtime Concerts
DESCRIPTION:\n\nTake a break on a Tuesday lunchtime and enjoy 45 minu
 tes of free, gorgeous classical music performed live by our resident p
 ianist Stephen Hose upstairs in the beautiful Long Gallery overlooking
  Waterlow Park. Stephen Hose trained at the Royal Academy of Music whe
 re he held a Vaughan Williams scholarship. He has had a varied career 
 which has included performing chamber music and solo recitals as well 
 as being Musical Director and pianist for a range of opera, musicals, 
 plays and TV. Doors will open at 1pm. The concert will begin at 1:15p
 m. Tickets are free, but we kindly ask that you book to give us an ide
 a of numbers.\n\nFor more information visit https://harringayonline.co
 m/events/stephen-hose-free-lunchtime-concerts
DTSTART;TZID=Europe/London:20260519T131500
DTEND;TZID=Europe/London:20260519T140000
CATEGORIES:classical, piano, concert
LOCATION:Lauderdale House
WEBSITE:https://www.lauderdalehouse.org.uk/whats-on/free-lunchtime-con
 certs-stephen-hose
URL:https://www.lauderdalehouse.org.uk/whats-on/free-lunchtime-concert
 s-stephen-hose
CONTACT:02083488716
ORGANIZER;CN="Lauderdale House":https://harringayonline.com/profile/So
 phieSerrano
ATTACH;FMTTYPE="image/jpeg":https://storage.ning.com/topology/rest/1.0
 /file/get/31137476695?profile=original
ATTENDEE;ROLE=REQ-PARTICIPANT;PARTSTAT=ACCEPTED;RSVP=TRUE;CN="Lauderda
 le House":https://harringayonline.com/profile/SophieSerrano
END:VEVENT
END:VCALENDAR
