BEGIN:VCALENDAR
PRODID:NingEventWidget-v1
VERSION:2.0
METHOD:PUBLISH
BEGIN:VTIMEZONE
TZID:Europe/London
X-LIC-LOCATION:Europe/London
BEGIN:DAYLIGHT
TZOFFSETFROM:+0000
TZOFFSETTO:+0100
TZNAME:BST
DTSTART:19700329T010000
RRULE:FREQ=YEARLY;BYMONTH=3;BYDAY=-1SU
END:DAYLIGHT
BEGIN:STANDARD
TZOFFSETFROM:+0100
TZOFFSETTO:+0000
TZNAME:GMT
DTSTART:19701025T020000
RRULE:FREQ=YEARLY;BYMONTH=10;BYDAY=-1SU
END:STANDARD
END:VTIMEZONE
BEGIN:VEVENT
UID:844301:Event:1505117
DTSTAMP:20260423T065305Z
SUMMARY:Stapleton Singers Community Choir Session Open to all
DESCRIPTION:Join our community choir, every Thursday 7pm - 8:30pm\n\n\
 nFor more information visit https://harringayonline.com/events/staplet
 on-singers-community-choir-session-open-to-all-1
DTSTART;TZID=Europe/London:20220830T190000
DTEND;TZID=Europe/London:20220830T203000
CATEGORIES:"community choir", "singers wanted"
LOCATION:MIND Haringey
WEBSITE:http://@stapletonsingers
URL:http://@stapletonsingers
CONTACT:email stapletonsingers1@gmail.com
ORGANIZER;CN="Maha Phillips":https://harringayonline.com/profile/MahaP
 hillips
ATTACH;FMTTYPE="image/jpeg":
ATTENDEE;ROLE=REQ-PARTICIPANT;PARTSTAT=ACCEPTED;RSVP=TRUE;CN="Maha Phi
 llips":https://harringayonline.com/profile/MahaPhillips
END:VEVENT
END:VCALENDAR
