BEGIN:VCALENDAR
PRODID:NingEventWidget-v1
VERSION:2.0
METHOD:PUBLISH
BEGIN:VTIMEZONE
TZID:Europe/London
X-LIC-LOCATION:Europe/London
BEGIN:DAYLIGHT
TZOFFSETFROM:+0000
TZOFFSETTO:+0100
TZNAME:BST
DTSTART:19700329T010000
RRULE:FREQ=YEARLY;BYMONTH=3;BYDAY=-1SU
END:DAYLIGHT
BEGIN:STANDARD
TZOFFSETFROM:+0100
TZOFFSETTO:+0000
TZNAME:GMT
DTSTART:19701025T020000
RRULE:FREQ=YEARLY;BYMONTH=10;BYDAY=-1SU
END:STANDARD
END:VTIMEZONE
BEGIN:VEVENT
UID:844301:Event:1506839
DTSTAMP:20260423T033324Z
SUMMARY:Stapleton Singers Community Choir on Thursday evenings
DESCRIPTION:Community Choir sessions led by Camilo Menjura on Thursday
  evenings, 7:00 to 8:30pm\n\n\nFor more information visit https://harr
 ingayonline.com/events/stapleton-singers-community-choir-on-thursday-e
 venings
DTSTART;TZID=Europe/London:20220915T190000
DTEND;TZID=Europe/London:20220915T203000
CATEGORIES:"community choir", "singers wanted"
LOCATION:Stapleton Singers, MIND Haringey
WEBSITE:
URL:
CONTACT:
ORGANIZER;CN="Maha Phillips":https://harringayonline.com/profile/MahaP
 hillips
ATTACH;FMTTYPE="image/jpeg":https://storage.ning.com/topology/rest/1.0
 /file/get/10807471455?profile=original
ATTENDEE;ROLE=REQ-PARTICIPANT;PARTSTAT=ACCEPTED;RSVP=TRUE;CN="Maha Phi
 llips":https://harringayonline.com/profile/MahaPhillips
END:VEVENT
END:VCALENDAR
