BEGIN:VCALENDAR
PRODID:NingEventWidget-v1
VERSION:2.0
METHOD:PUBLISH
BEGIN:VTIMEZONE
TZID:Europe/London
X-LIC-LOCATION:Europe/London
BEGIN:DAYLIGHT
TZOFFSETFROM:+0000
TZOFFSETTO:+0100
TZNAME:BST
DTSTART:19700329T010000
RRULE:FREQ=YEARLY;BYMONTH=3;BYDAY=-1SU
END:DAYLIGHT
BEGIN:STANDARD
TZOFFSETFROM:+0100
TZOFFSETTO:+0000
TZNAME:GMT
DTSTART:19701025T020000
RRULE:FREQ=YEARLY;BYMONTH=10;BYDAY=-1SU
END:STANDARD
END:VTIMEZONE
BEGIN:VEVENT
UID:844301:Event:1502532
DTSTAMP:20260423T135547Z
SUMMARY:SPOKEN WORD NIGHT (Haringey Arts Festival)
DESCRIPTION:We invite you to join us to listen to or perform any type 
 of spoken work: poetry, flash fiction, monologues, letters, prose-poet
 ry, storytelling, anything you want!\nThis is the first of the All Goo
 d Bookshop's Haringey Arts Festival events.\nTickets are £3 each, and
  you can decide if you want to perform on the night.\n\nFor more infor
 mation visit https://harringayonline.com/events/spoken-word-night-hari
 ngey-arts-festival
DTSTART;TZID=Europe/London:20220901T190000
DTEND;TZID=Europe/London:20220901T210000
CATEGORIES:spoken, word, spokenword, poetry, prose, fiction, haringey,
  festival
LOCATION:spoken, word, haringey, arts, festival, poetry, prose
WEBSITE:https://allgoodbookshop.co.uk/special-events
URL:https://allgoodbookshop.co.uk/special-events
CONTACT:02083410783
ORGANIZER;CN="The All Good Bookshop":https://harringayonline.com/profi
 le/TheAllGoodBookshop
ATTACH;FMTTYPE="image/jpeg":https://storage.ning.com/topology/rest/1.0
 /file/get/10764148485?profile=original
ATTENDEE;ROLE=REQ-PARTICIPANT;PARTSTAT=ACCEPTED;RSVP=TRUE;CN="The All 
 Good Bookshop":https://harringayonline.com/profile/TheAllGoodBookshop
END:VEVENT
END:VCALENDAR
