BEGIN:VCALENDAR
PRODID:NingEventWidget-v1
VERSION:2.0
METHOD:PUBLISH
BEGIN:VTIMEZONE
TZID:Europe/London
X-LIC-LOCATION:Europe/London
BEGIN:DAYLIGHT
TZOFFSETFROM:+0000
TZOFFSETTO:+0100
TZNAME:BST
DTSTART:19700329T010000
RRULE:FREQ=YEARLY;BYMONTH=3;BYDAY=-1SU
END:DAYLIGHT
BEGIN:STANDARD
TZOFFSETFROM:+0100
TZOFFSETTO:+0000
TZNAME:GMT
DTSTART:19701025T020000
RRULE:FREQ=YEARLY;BYMONTH=10;BYDAY=-1SU
END:STANDARD
END:VTIMEZONE
BEGIN:VEVENT
UID:844301:Event:1514910
DTSTAMP:20260421T041420Z
SUMMARY:SPOKEN WORD at LUDO'S BAR AND VENUE
DESCRIPTION:Spoken Word Night on an old London route-master bus! 25 se
 ats available. 10-15 performer slots on night so get there early. Any 
 style of writing can be performed but no isms. Suggested ticket donati
 on £2-3 but pay more if you want. Bar refreshments available.\n\nMORE
  DETAILS ON INSTA: https://www.instagram.com/spokenwordldn/\n\nFor mor
 e information visit https://harringayonline.com/events/spoken-word-at-
 ludo-s-bar-amp-venue
DTSTART;TZID=Europe/London:20221110T200000
DTEND;TZID=Europe/London:20221110T220000
CATEGORIES:"spoken word", spoken, word, poetry, prose, writing
LOCATION:LUDO'S BAR AND VENUE
WEBSITE:https://www.google.com/maps/place/Ludo&amp;#039;s/@52.2517015,
 -2.9749064,7z/data=!4m6!3m5!1s0x48761bbadcc51ab5:0x2ed77af0ef93b3f9!8m
 2!3d51.5970218!4d-0.1120059!15sChJsdWRvJ3MgZ29vZ2xlIG1hcHMiA4gBAVoIIgZ
 sdWRvJ3OSAQNiYXI?shorturl=1
URL:https://www.google.com/maps/place/Ludo&amp;#039;s/@52.2517015,-2.9
 749064,7z/data=!4m6!3m5!1s0x48761bbadcc51ab5:0x2ed77af0ef93b3f9!8m2!3d
 51.5970218!4d-0.1120059!15sChJsdWRvJ3MgZ29vZ2xlIG1hcHMiA4gBAVoIIgZsdWR
 vJ3OSAQNiYXI?shorturl=1
CONTACT:
ORGANIZER;CN="Stephen Fitzsimons":https://harringayonline.com/profile/
 StephenFitzsimons
ATTACH;FMTTYPE="image/jpeg":https://storage.ning.com/topology/rest/1.0
 /file/get/10864415876?profile=original
ATTENDEE;ROLE=REQ-PARTICIPANT;PARTSTAT=ACCEPTED;RSVP=TRUE;CN="Stephen 
 Fitzsimons":https://harringayonline.com/profile/StephenFitzsimons
END:VEVENT
END:VCALENDAR
