BEGIN:VCALENDAR
PRODID:NingEventWidget-v1
VERSION:2.0
METHOD:PUBLISH
BEGIN:VTIMEZONE
TZID:Europe/London
X-LIC-LOCATION:Europe/London
BEGIN:DAYLIGHT
TZOFFSETFROM:+0000
TZOFFSETTO:+0100
TZNAME:BST
DTSTART:19700329T010000
RRULE:FREQ=YEARLY;BYMONTH=3;BYDAY=-1SU
END:DAYLIGHT
BEGIN:STANDARD
TZOFFSETFROM:+0100
TZOFFSETTO:+0000
TZNAME:GMT
DTSTART:19701025T020000
RRULE:FREQ=YEARLY;BYMONTH=10;BYDAY=-1SU
END:STANDARD
END:VTIMEZONE
BEGIN:VEVENT
UID:844301:Event:1578019
DTSTAMP:20260424T094221Z
SUMMARY:Spider Walk
DESCRIPTION:Our very first walk to explore the spiders of Alexandra Pa
 rk, led by Edward Milner, local spider enthusiast and National Spider 
 Recorder for Middlesex and London.\nWe will start from the Grove Car P
 ark - no booking required. (map below)\n\n\nFor more information visit
  https://harringayonline.com/events/spider-walk
DTSTART;TZID=Europe/London:20240615T110000
DTEND;TZID=Europe/London:20240615T123000
CATEGORIES:walk, minibeasts, "friends of parks"
LOCATION:Alexandra Park
WEBSITE:http://www.friendsofalexandrapark.org
URL:http://www.friendsofalexandrapark.org
CONTACT:
ORGANIZER;CN="Stephen Middleton":https://harringayonline.com/profile/S
 tephenMiddleton
ATTACH;FMTTYPE="image/jpeg":https://storage.ning.com/topology/rest/1.0
 /file/get/12645722673?profile=original
ATTENDEE;ROLE=REQ-PARTICIPANT;PARTSTAT=ACCEPTED;RSVP=TRUE;CN="Stephen 
 Middleton":https://harringayonline.com/profile/StephenMiddleton
END:VEVENT
END:VCALENDAR
