BEGIN:VCALENDAR
PRODID:NingEventWidget-v1
VERSION:2.0
METHOD:PUBLISH
BEGIN:VTIMEZONE
TZID:Europe/London
X-LIC-LOCATION:Europe/London
BEGIN:DAYLIGHT
TZOFFSETFROM:+0000
TZOFFSETTO:+0100
TZNAME:BST
DTSTART:19700329T010000
RRULE:FREQ=YEARLY;BYMONTH=3;BYDAY=-1SU
END:DAYLIGHT
BEGIN:STANDARD
TZOFFSETFROM:+0100
TZOFFSETTO:+0000
TZNAME:GMT
DTSTART:19701025T020000
RRULE:FREQ=YEARLY;BYMONTH=10;BYDAY=-1SU
END:STANDARD
END:VTIMEZONE
BEGIN:VEVENT
UID:844301:Event:1513213
DTSTAMP:20260423T155458Z
SUMMARY:*Postponed* Spider Safari at St Ann's Green Spaces @ St Ann's 
 Hospital
DESCRIPTION:Join Friends of St Ann's Green Spaces (StAGS) and Edward M
 ilner, London Natural History Societyâ€™s Spider Recorder on a safari 
 around the green spaces of St Ann's Hospital.\r\n\r\nBook now for Sund
 ay 30th October at 10.30 onÂ Eventbrite\r\nChildren under the age of 1
 6 please bring an adult.\r\nPlease also bring a magnifying lens if you
  have one.\r\nParts of the woodland reservation path are muddy â€“ wea
 r appropriate shoes!\r\nMeet just inside theÂ new Hospital entrance.\r
 \nWeather permitting â€“ check updates on social media @St Annâ€™s Gre
 en Spaces.\r\n\r\nSuggested donations for the Spider event are Â£10- Â
 £20. \r\nYou can support StAGS' activities by making a one-off donatio
 nÂ of any size.\r\nAll donations directly fund the education and campa
 ign programmes that StAGs are running.\r\nYour donations make a differ
 ence, and your support is greatly valued and appreciated.\n\nFor more 
 information visit https://harringayonline.com/events/spider-safari-at-
 st-ann-s-green-spaces-st-ann-s-hospital
DTSTART;TZID=Europe/London:20221030T103000
DTEND;TZID=Europe/London:20221030T120000
CATEGORIES:"st anns hospital", "connect with nature", spiders, "nature
  walk"
LOCATION:St Ann's Hospital, New Hospital Entrance
WEBSITE:https://www.eventbrite.co.uk/e/connect-with-nature-stags-spide
 r-safari-tickets-447994753367?utm-campaign=social&amp;amp;utm-content=
 attendeeshare&amp;amp;utm-medium=discovery&amp;amp;utm-term=listing&am
 p;amp;utm-source=cp&amp;amp;aff=escb
URL:https://www.eventbrite.co.uk/e/connect-with-nature-stags-spider-sa
 fari-tickets-447994753367?utm-campaign=social&amp;amp;utm-content=atte
 ndeeshare&amp;amp;utm-medium=discovery&amp;amp;utm-term=listing&amp;am
 p;utm-source=cp&amp;amp;aff=escb
CONTACT:
ORGANIZER;CN=Liz:https://harringayonline.com/profile/Liz
ATTACH;FMTTYPE="image/jpeg":https://storage.ning.com/topology/rest/1.0
 /file/get/10856377869?profile=original
ATTENDEE;ROLE=REQ-PARTICIPANT;PARTSTAT=ACCEPTED;RSVP=TRUE;CN=Liz:https
 ://harringayonline.com/profile/Liz
END:VEVENT
END:VCALENDAR
