BEGIN:VCALENDAR
PRODID:NingEventWidget-v1
VERSION:2.0
METHOD:PUBLISH
BEGIN:VTIMEZONE
TZID:Europe/London
X-LIC-LOCATION:Europe/London
BEGIN:DAYLIGHT
TZOFFSETFROM:+0000
TZOFFSETTO:+0100
TZNAME:BST
DTSTART:19700329T010000
RRULE:FREQ=YEARLY;BYMONTH=3;BYDAY=-1SU
END:DAYLIGHT
BEGIN:STANDARD
TZOFFSETFROM:+0100
TZOFFSETTO:+0000
TZNAME:GMT
DTSTART:19701025T020000
RRULE:FREQ=YEARLY;BYMONTH=10;BYDAY=-1SU
END:STANDARD
END:VTIMEZONE
BEGIN:VEVENT
UID:844301:Event:1509726
DTSTAMP:20260423T172630Z
SUMMARY:Spider night - The Paddock
DESCRIPTION:Get your halloween festivities started with our Paddock sp
 ider night!\nWhat to expect:\n- A short talk on a spider species\n- A 
 guided transect survey of the whole site.\n- Help with identifying spi
 ders visually and by webs.\n-The data collected will help us develop t
 he Paddock into a Local Nature Reserve.\n- By booking onto multiple se
 ssions you’ll gain a deeper understanding of seasonal cycles, and im
 prove your I.D. skills.\nPre-booking is essential, book now to confirm
  a place.\nPlease be aware Eventbrite booking closes one day before ea
 ch surveying event at 5pm.\nIf you have to cancel your place for any r
 eason, please get in touch via thepaddock@tcv.org.uk or by the contact
  numbers below to let us know.\n\nWhat to bring:\nYou will be issued w
 ith a field recording sheet, species guide sheets, a clipboard and a p
 encil.\nIf you own a pair of binoculars and further ID guides/books, y
 ou are welcome to bring them along.\nIndividual surveys will run outdo
 ors for about an hour, please be sure to check the weather/temperature
  and dress accordingly.\n\nCOVID-Safe Measures:\nWhilst social distanc
 ing and COVID-safe measures are no longer legally required, you are we
 lcome to wear a mask if you would like to. Please consider others' wis
 hes who may still want to social distance, and always wash hands befor
 e eating/drinking on TCV projects.\nUnder 18s:\nAll ages can join in t
 he bird survey, the route is a little muddy but buggies are welcome!\n
 If you want to volunteer and are 16-17 years old please ensure you get
  in touch with us at thepaddock@tcv.org.uk, as you will need a complet
 ed parent/ guardian consent form to join in. For everyone aged 15 and 
 under they will also need a parent/guardian with them to attend.\n\nMe
 eting point:\nWe will meet at the Paddock main entrance next to the 2x
  green office buildings on Ferry Lane, N17 9NG.\n\nContact Info:\nThe 
 session will be run by Anna and Izzy.\nTelephone: Anna (07483 045 734)
  Izzy (07870678571).\nEmail: thepaddock@tcv.org.uk\n\n\nAbout TCV:\nTh
 e Conservation Volunteers (TCV) are a national charity. Our vision is 
 to create healthier, happier places for everyone. Our mission is to co
 nnect people and green spaces to deliver lasting outcomes for both.\nh
 ttps://www.tcv.org.uk/london/haringey/thepaddock/\nhttps://www.tcv.org
 .uk/\n\nFor more information visit https://harringayonline.com/events/
 spider-night-the-paddock
DTSTART;TZID=Europe/London:20221029T170000
DTEND;TZID=Europe/London:20221029T190000
CATEGORIES:wildlife, nature, survey
LOCATION:The Paddock Community Nature Park
WEBSITE:https://www.eventbrite.co.uk/e/spider-night-tickets-4257617338
 07
URL:https://www.eventbrite.co.uk/e/spider-night-tickets-425761733807
CONTACT:
ORGANIZER;CN="TCV Haringey":https://harringayonline.com/profile/Railwa
 yFields
ATTACH;FMTTYPE="image/jpeg":
ATTENDEE;ROLE=REQ-PARTICIPANT;PARTSTAT=ACCEPTED;RSVP=TRUE;CN="TCV Hari
 ngey":https://harringayonline.com/profile/RailwayFields
END:VEVENT
END:VCALENDAR
