BEGIN:VCALENDAR
PRODID:NingEventWidget-v1
VERSION:2.0
METHOD:PUBLISH
BEGIN:VTIMEZONE
TZID:Europe/London
X-LIC-LOCATION:Europe/London
BEGIN:DAYLIGHT
TZOFFSETFROM:+0000
TZOFFSETTO:+0100
TZNAME:BST
DTSTART:19700329T010000
RRULE:FREQ=YEARLY;BYMONTH=3;BYDAY=-1SU
END:DAYLIGHT
BEGIN:STANDARD
TZOFFSETFROM:+0100
TZOFFSETTO:+0000
TZNAME:GMT
DTSTART:19701025T020000
RRULE:FREQ=YEARLY;BYMONTH=10;BYDAY=-1SU
END:STANDARD
END:VTIMEZONE
BEGIN:VEVENT
UID:844301:Event:1634439
DTSTAMP:20260425T115545Z
SUMMARY:Singles Night 7x7x7 at Jam in a Jar
DESCRIPTION:7 DJs play 7 x 7\" singles at Jam in a Jar\n\nFor more in
 formation visit https://harringayonline.com/events/singles-night-7x7x7
 -at-jam-in-a-jar
DTSTART;TZID=Europe/London:20260313T000000
DTEND;TZID=Europe/London:20260313T235900
CATEGORIES:music, dancing, vinyl, cocktails
LOCATION:Jam in a Jar
WEBSITE:https://jaminajarbar.co.uk/
URL:https://jaminajarbar.co.uk/
CONTACT:
ORGANIZER;CN="Granny P":https://harringayonline.com/profile/Granny
ATTACH;FMTTYPE="image/jpeg":https://storage.ning.com/topology/rest/1.0
 /file/get/31094837081?profile=original
ATTENDEE;ROLE=REQ-PARTICIPANT;PARTSTAT=ACCEPTED;RSVP=TRUE;CN="Granny P
 ":https://harringayonline.com/profile/Granny
ATTENDEE;ROLE=REQ-PARTICIPANT;PARTSTAT=TENTATIVE;RSVP=TRUE;CN=Pugface:
 https://harringayonline.com/profile/RodneyKeg
END:VEVENT
END:VCALENDAR
