BEGIN:VCALENDAR
PRODID:NingEventWidget-v1
VERSION:2.0
METHOD:PUBLISH
BEGIN:VTIMEZONE
TZID:Europe/London
X-LIC-LOCATION:Europe/London
BEGIN:DAYLIGHT
TZOFFSETFROM:+0000
TZOFFSETTO:+0100
TZNAME:BST
DTSTART:19700329T010000
RRULE:FREQ=YEARLY;BYMONTH=3;BYDAY=-1SU
END:DAYLIGHT
BEGIN:STANDARD
TZOFFSETFROM:+0100
TZOFFSETTO:+0000
TZNAME:GMT
DTSTART:19701025T020000
RRULE:FREQ=YEARLY;BYMONTH=10;BYDAY=-1SU
END:STANDARD
END:VTIMEZONE
BEGIN:VEVENT
UID:844301:Event:1632069
DTSTAMP:20260423T192305Z
SUMMARY:Singles Night 7x7x7
DESCRIPTION:7 people spin 7 x 7\" vinyl singles. Join us for an eclect
 ic night of anything goes music, great cocktails and dancing like no o
 ne is watching. Free entry. Second Friday of every month from 7.30pm, 
 Ten to One bar 276 Philip Ln, London N15 4AD\n\nFor more information v
 isit https://harringayonline.com/events/singles-night-7x7x7-1
DTSTART;TZID=Europe/London:20260213T193000
DTEND;TZID=Europe/London:20260213T230000
CATEGORIES:music, dance, cocktails
LOCATION:Ten to One bar
WEBSITE:https://tentoonebar.co.uk/events/
URL:https://tentoonebar.co.uk/events/
CONTACT:07903 873900
ORGANIZER;CN="Granny P":https://harringayonline.com/profile/Granny
ATTACH;FMTTYPE="image/jpeg":https://storage.ning.com/topology/rest/1.0
 /file/get/31080783699?profile=original
ATTENDEE;ROLE=REQ-PARTICIPANT;PARTSTAT=ACCEPTED;RSVP=TRUE;CN="Granny P
 ":https://harringayonline.com/profile/Granny
END:VEVENT
END:VCALENDAR
