BEGIN:VCALENDAR
PRODID:NingEventWidget-v1
VERSION:2.0
METHOD:PUBLISH
BEGIN:VTIMEZONE
TZID:Europe/London
X-LIC-LOCATION:Europe/London
BEGIN:DAYLIGHT
TZOFFSETFROM:+0000
TZOFFSETTO:+0100
TZNAME:BST
DTSTART:19700329T010000
RRULE:FREQ=YEARLY;BYMONTH=3;BYDAY=-1SU
END:DAYLIGHT
BEGIN:STANDARD
TZOFFSETFROM:+0100
TZOFFSETTO:+0000
TZNAME:GMT
DTSTART:19701025T020000
RRULE:FREQ=YEARLY;BYMONTH=10;BYDAY=-1SU
END:STANDARD
END:VTIMEZONE
BEGIN:VEVENT
UID:844301:Event:1636633
DTSTAMP:20260419T161347Z
SUMMARY:Singles Night
DESCRIPTION:7 DJs spin 7 x 7-inch singles.An eclectic mix of favourite
  45s\n\nFor more information visit https://harringayonline.com/events/
 singles-night-1
DTSTART;TZID=Europe/London:20260410T193000
DTEND;TZID=Europe/London:20260411T020000
CATEGORIES:music, cocktails
LOCATION:Jam in a Jar
WEBSITE:https://jaminajarbar.co.uk
URL:https://jaminajarbar.co.uk
CONTACT:
ORGANIZER;CN="Jam in a Jar":https://harringayonline.com/profile/Jamina
 Jar
ATTACH;FMTTYPE="image/jpeg":https://storage.ning.com/topology/rest/1.0
 /file/get/31119883481?profile=original
ATTENDEE;ROLE=REQ-PARTICIPANT;PARTSTAT=ACCEPTED;RSVP=TRUE;CN="Granny P
 ":https://harringayonline.com/profile/Granny
ATTENDEE;ROLE=REQ-PARTICIPANT;PARTSTAT=ACCEPTED;RSVP=TRUE;CN="Jam in a
  Jar":https://harringayonline.com/profile/JaminaJar
END:VEVENT
END:VCALENDAR
