BEGIN:VCALENDAR
PRODID:NingEventWidget-v1
VERSION:2.0
METHOD:PUBLISH
BEGIN:VTIMEZONE
TZID:Europe/London
X-LIC-LOCATION:Europe/London
BEGIN:DAYLIGHT
TZOFFSETFROM:+0000
TZOFFSETTO:+0100
TZNAME:BST
DTSTART:19700329T010000
RRULE:FREQ=YEARLY;BYMONTH=3;BYDAY=-1SU
END:DAYLIGHT
BEGIN:STANDARD
TZOFFSETFROM:+0100
TZOFFSETTO:+0000
TZNAME:GMT
DTSTART:19701025T020000
RRULE:FREQ=YEARLY;BYMONTH=10;BYDAY=-1SU
END:STANDARD
END:VTIMEZONE
BEGIN:VEVENT
UID:844301:Event:1521440
DTSTAMP:20260422T114222Z
SUMMARY:Singing Mamas Crouch End - TUESDAYS
DESCRIPTION:Singing Mamas is a network of singing groups not just for 
 mamas.\n\nWe welcome all women, any age and any life phase to come and
  experience the magic of group singing.No auditions or performances, n
 o sheets of music, no solos. Just joy, connection, and a little tea an
 d cake to go with it.\n\nWe had a lovely pop up session in December wi
 th eight women plus babies and toddlers making a beautiful sound bath.
  Come and see what it's about!\n\nYour first session is free. We meet 
 on Tuesdays at 10am, starting up 10th January 2023.\n\nYou can use the
  google form link (https://forms.gle/TBoy14AG7DXBL5AE9) to sign up or 
 just respond to the event on Facebook and I will contact you.\n\nFor m
 ore information visit https://harringayonline.com/events/singing-mamas
 -crouch-end-tuesdays
DTSTART;TZID=Europe/London:20230110T100000
DTEND;TZID=Europe/London:20230110T113000
CATEGORIES:"'singing'", "'womenssinging'", "'mumschoir'", "'singingcir
 cle'", "'connection_community'"
LOCATION:Hornsey Vale Community Centre, Crouch End
WEBSITE:https://www.facebook.com/singingmamascrouchend
URL:https://www.facebook.com/singingmamascrouchend
CONTACT:
ORGANIZER;CN=Grace:https://harringayonline.com/profile/Grace916
ATTACH;FMTTYPE="image/jpeg":https://storage.ning.com/topology/rest/1.0
 /file/get/10915054669?profile=original
ATTENDEE;ROLE=REQ-PARTICIPANT;PARTSTAT=ACCEPTED;RSVP=TRUE;CN=Grace:htt
 ps://harringayonline.com/profile/Grace916
END:VEVENT
END:VCALENDAR
