BEGIN:VCALENDAR
PRODID:NingEventWidget-v1
VERSION:2.0
METHOD:PUBLISH
BEGIN:VTIMEZONE
TZID:Europe/London
X-LIC-LOCATION:Europe/London
BEGIN:DAYLIGHT
TZOFFSETFROM:+0000
TZOFFSETTO:+0100
TZNAME:BST
DTSTART:19700329T010000
RRULE:FREQ=YEARLY;BYMONTH=3;BYDAY=-1SU
END:DAYLIGHT
BEGIN:STANDARD
TZOFFSETFROM:+0100
TZOFFSETTO:+0000
TZNAME:GMT
DTSTART:19701025T020000
RRULE:FREQ=YEARLY;BYMONTH=10;BYDAY=-1SU
END:STANDARD
END:VTIMEZONE
BEGIN:VEVENT
UID:844301:Event:1640266
DTSTAMP:20260425T163659Z
SUMMARY:Singalong at Karamel
DESCRIPTION:\n\n\nFor more information visit https://harringayonline.c
 om/events/singalong-at-karamel
DTSTART;TZID=Europe/London:20260425T190000
DTEND;TZID=Europe/London:20260425T230000
CATEGORIES:meetup, singalong, rockeoke, karamel
LOCATION:karamel, 4 Ciburg Road, London N22 6UJ
WEBSITE:https://www.musicglue.com/karamel
URL:https://www.musicglue.com/karamel
CONTACT:020 8090 0071
ORGANIZER;CN="Collage Arts":https://harringayonline.com/profile/Chocol
 ateFactory
ATTACH;FMTTYPE="image/jpeg":https://storage.ning.com/topology/rest/1.0
 /file/get/31141850870?profile=original
ATTENDEE;ROLE=REQ-PARTICIPANT;PARTSTAT=ACCEPTED;RSVP=TRUE;CN="Collage 
 Arts":https://harringayonline.com/profile/ChocolateFactory
END:VEVENT
END:VCALENDAR
