BEGIN:VCALENDAR
PRODID:NingEventWidget-v1
VERSION:2.0
METHOD:PUBLISH
BEGIN:VTIMEZONE
TZID:Europe/London
X-LIC-LOCATION:Europe/London
BEGIN:DAYLIGHT
TZOFFSETFROM:+0000
TZOFFSETTO:+0100
TZNAME:BST
DTSTART:19700329T010000
RRULE:FREQ=YEARLY;BYMONTH=3;BYDAY=-1SU
END:DAYLIGHT
BEGIN:STANDARD
TZOFFSETFROM:+0100
TZOFFSETTO:+0000
TZNAME:GMT
DTSTART:19701025T020000
RRULE:FREQ=YEARLY;BYMONTH=10;BYDAY=-1SU
END:STANDARD
END:VTIMEZONE
BEGIN:VEVENT
UID:844301:Event:1636929
DTSTAMP:20260424T183519Z
SUMMARY:Shaparak Khorsandi - This Thursday (02/04/26) @The Salisbury -
  8pm (Thursday 2nd May)
DESCRIPTION:\nJoin us This Thursday 2nd May at The Salisbury Hotel N4 
 1JX at 8pm (doors 7:45pm).\nWe have an exciting line-up including new 
 material from our headliner Shaparak Khorsandi\nFREE TICKETS:https://w
 ww.eventbrite.co.uk/e/1985637359795\n\n\nFor more information visit ht
 tps://harringayonline.com/events/shaparak-khorsandi-this-thursday-02-0
 4-26-the-salisbury-8pm
DTSTART;TZID=Europe/London:20260402T200000
DTEND;TZID=Europe/London:20260402T220000
CATEGORIES:stand-up, comedy, standup, club, nightlife, live, event, fr
 ee, the, salisbury
LOCATION:https://www.eventbrite.co.uk/e/1985637359795
WEBSITE:https://www.eventbrite.co.uk/e/1985637359795
URL:https://www.eventbrite.co.uk/e/1985637359795
CONTACT:
ORGANIZER;CN="Comedy Odyssey":https://harringayonline.com/profile/Come
 dyOdyssey
ATTACH;FMTTYPE="image/jpeg":https://storage.ning.com/topology/rest/1.0
 /file/get/31123591658?profile=original
ATTENDEE;ROLE=REQ-PARTICIPANT;PARTSTAT=ACCEPTED;RSVP=TRUE;CN="Comedy O
 dyssey":https://harringayonline.com/profile/ComedyOdyssey
END:VEVENT
END:VCALENDAR
