BEGIN:VCALENDAR
PRODID:NingEventWidget-v1
VERSION:2.0
METHOD:PUBLISH
BEGIN:VTIMEZONE
TZID:Europe/London
X-LIC-LOCATION:Europe/London
BEGIN:DAYLIGHT
TZOFFSETFROM:+0000
TZOFFSETTO:+0100
TZNAME:BST
DTSTART:19700329T010000
RRULE:FREQ=YEARLY;BYMONTH=3;BYDAY=-1SU
END:DAYLIGHT
BEGIN:STANDARD
TZOFFSETFROM:+0100
TZOFFSETTO:+0000
TZNAME:GMT
DTSTART:19701025T020000
RRULE:FREQ=YEARLY;BYMONTH=10;BYDAY=-1SU
END:STANDARD
END:VTIMEZONE
BEGIN:VEVENT
UID:844301:Event:1508646
DTSTAMP:20260421T113731Z
SUMMARY:Santa's Christmas Grotto 2022
DESCRIPTION:Every year a magical Christmas grotto springs up in Lauder
 dale House as the man himself (Father Christmas, Santa Claus, Père N
 oël, Saint Nick) pays us a special seasonal visit. Kids of all ages
  can come along to meet him! \nSelect a half-hour slot. Within your b
 ooked time slot, children will take it in turns to meet Father Christm
 as with the adults accompanying them. \n£11 per child, parents go fr
 ee.\n'One of London's top five Santas' (Time Out) \n\nFor more infor
 mation visit https://harringayonline.com/events/santa-s-christmas-grot
 to-2022
DTSTART;TZID=Europe/London:20221210T100000
DTEND;TZID=Europe/London:20221211T173000
CATEGORIES:christmas, "family fun", festive
LOCATION:Lauderdale House, Waterlow Park
WEBSITE:https://www.lauderdalehouse.org.uk/whats-on/santas-christmas-g
 rotto-2022
URL:https://www.lauderdalehouse.org.uk/whats-on/santas-christmas-grott
 o-2022
CONTACT:02083488716
ORGANIZER;CN="Lauderdale House":https://harringayonline.com/profile/So
 phieSerrano
ATTACH;FMTTYPE="image/jpeg":https://storage.ning.com/topology/rest/1.0
 /file/get/10818323464?profile=original
ATTENDEE;ROLE=REQ-PARTICIPANT;PARTSTAT=ACCEPTED;RSVP=TRUE;CN="Lauderda
 le House":https://harringayonline.com/profile/SophieSerrano
END:VEVENT
END:VCALENDAR
