BEGIN:VCALENDAR
PRODID:NingEventWidget-v1
VERSION:2.0
METHOD:PUBLISH
BEGIN:VTIMEZONE
TZID:Europe/London
X-LIC-LOCATION:Europe/London
BEGIN:DAYLIGHT
TZOFFSETFROM:+0000
TZOFFSETTO:+0100
TZNAME:BST
DTSTART:19700329T010000
RRULE:FREQ=YEARLY;BYMONTH=3;BYDAY=-1SU
END:DAYLIGHT
BEGIN:STANDARD
TZOFFSETFROM:+0100
TZOFFSETTO:+0000
TZNAME:GMT
DTSTART:19701025T020000
RRULE:FREQ=YEARLY;BYMONTH=10;BYDAY=-1SU
END:STANDARD
END:VTIMEZONE
BEGIN:VEVENT
UID:844301:Event:1594531
DTSTAMP:20260423T162336Z
SUMMARY:Santa clause is coming to the Langham
DESCRIPTION:The Langham is hosting it's annual family Christmas party,
  face painting, a few small stalls, free biscuit decorating, craft for
  the little ones. Santa will be arriving from 1.30. Tickets for the Gr
 otto are available from eventbrite.\nLet's get the community together 
 for a family Christmas get together \nhttps://www.eventbrite.co.uk/e/
 santas-grotto-tickets-1080206258999\n\nFor more information visit http
 s://harringayonline.com/events/santa-clause-is-coming-to-the-langham
DTSTART;TZID=Europe/London:20241207T130000
DTEND;TZID=Europe/London:20241207T170000
CATEGORIES:family, christmas, party
LOCATION:The Langham Club
WEBSITE:
URL:
CONTACT:
ORGANIZER;CN=Carla:https://harringayonline.com/profile/Carla
ATTACH;FMTTYPE="image/jpeg":https://storage.ning.com/topology/rest/1.0
 /file/get/13219145263?profile=original
ATTENDEE;ROLE=REQ-PARTICIPANT;PARTSTAT=ACCEPTED;RSVP=TRUE;CN=Carla:htt
 ps://harringayonline.com/profile/Carla
END:VEVENT
END:VCALENDAR
