BEGIN:VCALENDAR
PRODID:NingEventWidget-v1
VERSION:2.0
METHOD:PUBLISH
BEGIN:VTIMEZONE
TZID:Europe/London
X-LIC-LOCATION:Europe/London
BEGIN:DAYLIGHT
TZOFFSETFROM:+0000
TZOFFSETTO:+0100
TZNAME:BST
DTSTART:19700329T010000
RRULE:FREQ=YEARLY;BYMONTH=3;BYDAY=-1SU
END:DAYLIGHT
BEGIN:STANDARD
TZOFFSETFROM:+0100
TZOFFSETTO:+0000
TZNAME:GMT
DTSTART:19701025T020000
RRULE:FREQ=YEARLY;BYMONTH=10;BYDAY=-1SU
END:STANDARD
END:VTIMEZONE
BEGIN:VEVENT
UID:844301:Event:1636527
DTSTAMP:20260424T162555Z
SUMMARY:Síncopa Producciones Presents... Orlando Bonzi
DESCRIPTION:Orlando Bonzi is an internationally recognized guitarist 
 and vocalist known for his expressive tone, distinctive voice, and gen
 re-blending sound. With a refined technique and a sensitivity that tra
 nscends genres, Bonzi has masterfully blended the jazz tradition, into
  Latin American, Brazilian, funk, blues music, into a powerful live ex
 perience. Having performed across the Americas, Asia, and Europe, Orla
 ndo has collaborated with artists such as Gary Willis, Jeff Ballard, G
 ergo Borlai. Based in London, established himself as one of the most v
 ersatile and creative figures on the contemporary music scene, he lead
 s original projects and co-directs Music & Life Academy, a creative hu
 b for performance, education and artistic development.\nAt Karamel is 
 presenting originals music next to some of the vibrant musicians of th
 e London and worldwide jazz scene\nKaramel - 4 Coburg Road, London N22
  6UJ. The Karamel vegan kitchen will be serving food until 9.30pm. Ema
 il karamel8775@gmail.com to book a table for groups of 3+.\nDoors op
 en 7pm. Music starts at 8pm.\n\nFor more information visit https://har
 ringayonline.com/events/s-ncopa-producciones-presents-orlando-bonzi
DTSTART;TZID=Europe/London:20260404T190000
DTEND;TZID=Europe/London:20260404T223000
CATEGORIES:jazz, live, music, local, vegan, food, world
LOCATION:Karamel - 4 Coburg Road, London N22 6UJ.
WEBSITE:https://www.musicglue.com/karamel
URL:https://www.musicglue.com/karamel
CONTACT:02080900071
ORGANIZER;CN="Collage Arts":https://harringayonline.com/profile/Chocol
 ateFactory
ATTACH;FMTTYPE="image/jpeg":https://storage.ning.com/topology/rest/1.0
 /file/get/31106326452?profile=original
ATTENDEE;ROLE=REQ-PARTICIPANT;PARTSTAT=ACCEPTED;RSVP=TRUE;CN="Collage 
 Arts":https://harringayonline.com/profile/ChocolateFactory
END:VEVENT
END:VCALENDAR
